Workbook

Sheet 【施設用】入力シート（こちらにご入力ください）
A1: 栄養管理報告書（介護保険施設・社会福祉施設用） 第４号様式 入力シート | F1: 台帳の施設番号（保健所記入欄）▶ | L1: 入力年度 | M1: 2026 | S1: =SUM($S$8:$S$215) -> 199
A2: 【使い方】ピンク色・黄色のセルに入力してください（前の回答により入力不要になった欄は濃い灰色に変わります）。該当がない数値欄は「０」を入力してください。 | S2: =IFERROR(MATCH(TRUE,INDEX($S$8:$S$215>0,0),0)+7,0) -> 8
A3: 右端の「入力方法・選択肢」欄に「▼」がある項目はプルダウンから選択します（選択肢以外は入力できません）。複数選択の項目は、該当するものに「○」、該当しないものに「－」を選んでください。 | S3: =IF($S$2=0,"",IF(INDEX($A:$A,$S$2)="","（"&$S$2&"行目）",INDEX($A:$A,$S$2))) -> ★必ず選択 食数が１回２０食未満かつ１日５０食未満の施設
A4: 入力内容は「【施設・保健所用】印刷シート」に自動反映されますので、提出前に印刷等により内容をご確認ください。
A5: 凡例：黄色＝入力欄 ／ 濃い灰色＝前の回答により入力不要 ／ 緑色＝保健所記入欄（施設は入力不要） ※郵便番号・電話番号・FAX・メールアドレス・数値は半角で入力してください。 ※ピンク色＝入力が必要な未入力欄（７行目の「未入力チェック」に件数が表示されます）
A6: 項目 | D6: 入力値 | G6: 記入例 | J6: 入力方法・選択肢 | S6: 未入力チェック用（表示しなくても構いません）
A7: ■未入力チェック | D7: =IF($S$1=0,"✔ 未入力の項目はありません","⚠ 未入力の項目が "&$S$1&" 件あります（最初：「"&$S$3&"」） ピンク色のセルを入力してください") -> ⚠ 未入力の項目が 199 件あります（最初：「★必ず選択 食数が１回２０食未満かつ１日５０食未満の施設」） ピンク色のセルを入力してください
A8: ★必ず選択 食数が１回２０食未満かつ１日５０食未満の施設 | G8: =IF(D8="","◀ 必ず「該当する」か「該当しない」を選択してください（選択により入力が必要な項目が変わります）",IF(D8="該当する","「該当する」のため、①③⑧⑪㉖以外の項目は入力不要（灰色）です","「該当しない」のため、すべての項目を入力してください")) -> ◀ 必ず「該当する」か「該当しない」を選択してください（選択により入力が必要な項目が変わります） | S8: =COUNTBLANK(D8) -> 1
A9: ＜表紙＞
A10: 報告日 | G10: 2026/12/1 | J10: 日付を入力（例：2026/12/1）※11月1日より前の日付は入力できません | S10: =COUNTBLANK(D10) -> 1
A11: 提出先保健所名 | G11: 岐阜保健所 | J11: ▼選択：提出先の保健所 | S11: =COUNTBLANK(D11) -> 1
A12: 施設の名称 | G12: 特別養護老人ホーム 岐阜苑 | S12: =COUNTBLANK(D12) -> 1
A13: 施設の所在地（郵便番号） | G13: 500-8384 | J13: 半角で入力（例：500-8384） | S13: =COUNTBLANK(D13) -> 1
A14: 施設の所在地 | G14: 岐阜市薮田南２-１-１ | S14: =COUNTBLANK(D14) -> 1
A15: 施設設置者（職名・氏名） | G15: 社会福祉法人岐阜県会 理事長 岐阜 太郎 | S15: =COUNTBLANK(D15) -> 1
A16: 施設管理者（職名・氏名） | G16: 施設長 岐阜 花子 | S16: =COUNTBLANK(D16) -> 1
A17: 栄養管理部門名 | G17: 栄養課 | S17: =COUNTBLANK(D17) -> 1
A18: 栄養管理責任者（職名・氏名） | G18: 課長 美濃 一郎 | S18: =COUNTBLANK(D18) -> 1
A19: ＴＥＬ | G19: 058-272-1111 | J19: 半角で入力（例：058-272-1111） | S19: =COUNTBLANK(D19) -> 1
A20: ＦＡＸ | G20: 058-272-2222 | J20: 半角で入力（例：058-272-2222） | S20: =COUNTBLANK(D20) -> 1
A21: 代表Ｅ-mail | G21: eiyo@example.jp | J21: 半角英数字で入力（例：eiyo@example.jp） | S21: =COUNTBLANK(D21) -> 1
A22: ①施設種別
A23: 施設種別 | G23: ３老人福祉施設 | J23: ▼選択：１介護老人保健施設／２介護医療院／３老人福祉施設／４社会福祉施設 | S23: =COUNTBLANK(D23) -> 1
A24: ②組織の位置付け
A25: 組織の位置付け | G25: １栄養部 | J25: ▼選択：１栄養部／２診療部／３事務部／４その他 | S25: =IF($D$8="該当する",0,COUNTBLANK(D25)) -> 1
A26: 組織の位置付け：４その他の内容 | S26: =IF(OR($D$8="該当する",AND($D$25<>"",$D$25<>"４その他")),0,COUNTBLANK(D26)) -> 1
A27: ③給食の運営方式
A28: 運営方式 | G28: １直営 | J28: ▼選択：１直営／２委託 | S28: =COUNTBLANK(D28) -> 1
A29: 委託の区分 | J29: ▼選択：全面／一部 | S29: =IF(AND($D$28<>"",$D$28<>"２委託"),0,COUNTBLANK(D29)) -> 1
A30: 委託契約書類の整備 | J30: ▼選択：１有／２無 | S30: =IF(AND($D$28<>"",$D$28<>"２委託"),0,COUNTBLANK(D30)) -> 1
A31: 委託先名称 | S31: =IF(AND($D$28<>"",$D$28<>"２委託"),0,COUNTBLANK(D31)) -> 1
A32: 委託先所在地 | S32: =IF(AND($D$28<>"",$D$28<>"２委託"),0,COUNTBLANK(D32)) -> 1
A33: 委託内容：１献立作成 | G33: － | J33: ▼選択：○（該当する）／－（該当しない） | S33: =IF(AND($D$28<>"",$D$28<>"２委託"),0,COUNTBLANK(D33)) -> 1
A34: 委託内容：２材料購入 | G34: － | J34: ▼選択：○（該当する）／－（該当しない） | S34: =IF(AND($D$28<>"",$D$28<>"２委託"),0,COUNTBLANK(D34)) -> 1
A35: 委託内容：３調理 | G35: － | J35: ▼選択：○（該当する）／－（該当しない） | S35: =IF(AND($D$28<>"",$D$28<>"２委託"),0,COUNTBLANK(D35)) -> 1
A36: 委託内容：４配膳 | G36: － | J36: ▼選択：○（該当する）／－（該当しない） | S36: =IF(AND($D$28<>"",$D$28<>"２委託"),0,COUNTBLANK(D36)) -> 1
A37: 委託内容：５下膳 | G37: － | J37: ▼選択：○（該当する）／－（該当しない） | S37: =IF(AND($D$28<>"",$D$28<>"２委託"),0,COUNTBLANK(D37)) -> 1
A38: 委託内容：６食器洗浄 | G38: － | J38: ▼選択：○（該当する）／－（該当しない） | S38: =IF(AND($D$28<>"",$D$28<>"２委託"),0,COUNTBLANK(D38)) -> 1
A39: 委託内容：７施設外調理 | G39: － | J39: ▼選択：○（該当する）／－（該当しない） | S39: =IF(AND($D$28<>"",$D$28<>"２委託"),0,COUNTBLANK(D39)) -> 1
A40: 委託内容：８その他 | G40: － | J40: ▼選択：○（該当する）／－（該当しない） | S40: =IF(AND($D$28<>"",$D$28<>"２委託"),0,COUNTBLANK(D40)) -> 1
A41: 委託内容：８その他の内容 | S41: =IF(OR(AND($D$40<>"",$D$40<>"○"),$D$28="１直営"),0,COUNTBLANK(D41)) -> 1
A42: ④⑤理念・組織図
A43: ④栄養管理業務担当部門(給食)の理念・目標・方針 | G43: １有 | J43: ▼選択：１有／２無 | S43: =IF($D$8="該当する",0,COUNTBLANK(D43)) -> 1
A44: ⑤組織図 | G44: １有 | J44: ▼選択：１有／２無 | S44: =IF($D$8="該当する",0,COUNTBLANK(D44)) -> 1
A45: ⑥栄養管理等について検討する会議
A46: 会議の有無 | G46: １有 | J46: ▼選択：１有／２無 | S46: =IF($D$8="該当する",0,COUNTBLANK(D46)) -> 1
A47: 会議の名称 | G47: 給食委員会 | S47: =IF(OR($D$8="該当する",AND($D$46<>"",$D$46<>"１有")),0,COUNTBLANK(D47)) -> 1
A48: 実施回数 | G48: 12 | J48: 半角数字（整数） | S48: =IF(OR($D$8="該当する",AND($D$46<>"",$D$46<>"１有")),0,COUNTBLANK(D48)) -> 1
A49: 実施回数の単位 | G49: 月 | J49: ▼選択：週／月／年 | S49: =IF(OR($D$8="該当する",AND($D$46<>"",$D$46<>"１有")),0,COUNTBLANK(D49)) -> 1
A50: 会議の記録 | G50: １有 | J50: ▼選択：１有／２無 | S50: =IF(OR($D$8="該当する",AND($D$46<>"",$D$46<>"１有")),0,COUNTBLANK(D50)) -> 1
A51: 構成職種：１施設長 | G51: ○ | J51: ▼選択：○（該当する）／－（該当しない） | S51: =IF(OR($D$8="該当する",AND($D$46<>"",$D$46<>"１有")),0,COUNTBLANK(D51)) -> 1
A52: 構成職種：２医師 | G52: ○ | J52: ▼選択：○（該当する）／－（該当しない） | S52: =IF(OR($D$8="該当する",AND($D$46<>"",$D$46<>"１有")),0,COUNTBLANK(D52)) -> 1
A53: 構成職種：３管理栄養士・栄養士 | G53: ○ | J53: ▼選択：○（該当する）／－（該当しない） | S53: =IF(OR($D$8="該当する",AND($D$46<>"",$D$46<>"１有")),0,COUNTBLANK(D53)) -> 1
A54: 構成職種：４調理師(員) | G54: － | J54: ▼選択：○（該当する）／－（該当しない） | S54: =IF(OR($D$8="該当する",AND($D$46<>"",$D$46<>"１有")),0,COUNTBLANK(D54)) -> 1
A55: 構成職種：５受託業者 | G55: － | J55: ▼選択：○（該当する）／－（該当しない） | S55: =IF(OR($D$8="該当する",AND($D$46<>"",$D$46<>"１有")),0,COUNTBLANK(D55)) -> 1
A56: 構成職種：６介護担当者 | G56: － | J56: ▼選択：○（該当する）／－（該当しない） | S56: =IF(OR($D$8="該当する",AND($D$46<>"",$D$46<>"１有")),0,COUNTBLANK(D56)) -> 1
A57: 構成職種：７利用者代表 | G57: － | J57: ▼選択：○（該当する）／－（該当しない） | S57: =IF(OR($D$8="該当する",AND($D$46<>"",$D$46<>"１有")),0,COUNTBLANK(D57)) -> 1
A58: 構成職種：８その他 | G58: － | J58: ▼選択：○（該当する）／－（該当しない） | S58: =IF(OR($D$8="該当する",AND($D$46<>"",$D$46<>"１有")),0,COUNTBLANK(D58)) -> 1
A59: 構成職種：その他の内容 | S59: =IF(OR($D$8="該当する",AND($D$58<>"",$D$58<>"○"),$D$46="２無"),0,COUNTBLANK(D59)) -> 1
A60: 構成職種 合計人数 | G60: 8 | J60: 半角数字（整数） | S60: =IF(OR($D$8="該当する",AND($D$46<>"",$D$46<>"１有")),0,COUNTBLANK(D60)) -> 1
A61: 会議の目的 | G61: 給食内容及び衛生管理の検討 | S61: =IF(OR($D$8="該当する",AND($D$46<>"",$D$46<>"１有")),0,COUNTBLANK(D61)) -> 1
A62: ⑦従事者の研修
A63: 研修の有無 | G63: １有 | J63: ▼選択：１有／２無 | S63: =IF($D$8="該当する",0,COUNTBLANK(D63)) -> 1
A64: 管理栄養士・栄養士１人当たりの参加回数／年 | G64: 2 | J64: 半角数字（小数可。２年に１回の場合は 0.5） | S64: =IF(OR($D$8="該当する",AND($D$63<>"",$D$63<>"１有")),0,COUNTBLANK(D64)) -> 1
A65: 調理従事者１人当たりの参加回数／年 | G65: 1 | J65: 半角数字（小数可。２年に１回の場合は 0.5） | S65: =IF(OR($D$8="該当する",AND($D$63<>"",$D$63<>"１有")),0,COUNTBLANK(D65)) -> 1
A66: ⑧食数
A67: 食数（人） | D67: 定員 | E67: 朝 | F67: 昼 | G67: 夕 | H67: その他 ※おやつを除く | I67: 備考（内容） | K67: 備考 （食数） | L67: 入力：半角数字（整数）/文字。
A68: 入所者 | S68: =COUNTBLANK(D68)+COUNTBLANK(E68)+COUNTBLANK(F68)+COUNTBLANK(G68)+COUNTBLANK(H68) -> 5
A69: 短期入所者 | S69: =COUNTBLANK(D69)+COUNTBLANK(E69)+COUNTBLANK(F69)+COUNTBLANK(G69)+COUNTBLANK(H69) -> 5
A70: 日中利用者 | S70: =COUNTBLANK(D70)+COUNTBLANK(E70)+COUNTBLANK(F70)+COUNTBLANK(G70)+COUNTBLANK(H70) -> 5
A71: その他(配食) | S71: =COUNTBLANK(E71)+COUNTBLANK(F71)+COUNTBLANK(G71)+COUNTBLANK(H71) -> 4
A72: 職員 | S72: =COUNTBLANK(E72)+COUNTBLANK(F72)+COUNTBLANK(G72)+COUNTBLANK(H72) -> 4
A74: ※提供がない欄には「０」を入力してください（未入力チェックの対象です）。備考は任意入力です。備考は内容とその食数を入力してください。計は印刷シートで自動計算されます。最下行は左端の黄色欄に区分名を入力して使用できます。
A76: ⑨栄養補給法
A77: 経口栄養法（人） | G77: 75 | J77: 半角数字（整数） | S77: =IF($D$8="該当する",0,COUNTBLANK(D77)) -> 1
A78: 経腸栄養法（人） | G78: 3 | J78: 半角数字（整数） | S78: =IF($D$8="該当する",0,COUNTBLANK(D78)) -> 1
A79: ⑩食種
A80: 常食（人） | G80: 50 | J80: 半角数字（整数） | S80: =IF($D$8="該当する",0,COUNTBLANK(D80)) -> 1
A81: 軟食（人） | G81: 20 | J81: 半角数字（整数） | S81: =IF($D$8="該当する",0,COUNTBLANK(D81)) -> 1
A82: 流動食（人） | G82: 3 | J82: 半角数字（整数） | S82: =IF($D$8="該当する",0,COUNTBLANK(D82)) -> 1
A83: 療養食加算対象食（人） | G83: 5 | J83: 半角数字（整数） | S83: =IF($D$8="該当する",0,COUNTBLANK(D83)) -> 1
A84: ⑪従事者数
A85: 従事者数（人） | D85: 施設側 常勤 | E85: 施設側 非常勤 | F85: 受託側 常勤 | G85: 受託側 非常勤 | H85: 入力：半角数字（整数）
A86: 管理栄養士 | S86: =IF($D$28="１直営",0,COUNTBLANK(F86)+COUNTBLANK(G86))+COUNTBLANK(D86)+COUNTBLANK(E86) -> 4
A87: 栄養士 | S87: =IF($D$28="１直営",0,COUNTBLANK(F87)+COUNTBLANK(G87))+COUNTBLANK(D87)+COUNTBLANK(E87) -> 4
A88: 調理師 | S88: =IF($D$28="１直営",0,COUNTBLANK(F88)+COUNTBLANK(G88))+COUNTBLANK(D88)+COUNTBLANK(E88) -> 4
A89: 調理員 | S89: =IF($D$28="１直営",0,COUNTBLANK(F89)+COUNTBLANK(G89))+COUNTBLANK(D89)+COUNTBLANK(E89) -> 4
A90: その他 | S90: =IF($D$28="１直営",0,COUNTBLANK(F90)+COUNTBLANK(G90))+COUNTBLANK(D90)+COUNTBLANK(E90) -> 4
A91: ※従事者がいない欄には「０」を入力してください（未入力チェックの対象です）。合計は印刷シートで自動計算されます。
A93: 代表(施設側)管理栄養士・栄養士 職名 | G93: 管理栄養士 | J93: ▼選択：管理栄養士／栄養士
A94: 代表(施設側)管理栄養士・栄養士 氏名 | G94: 美濃 一郎
A95: 代表(施設側) 在籍年数 | G95: 5 | J95: 半角数字（小数可）
A96: 代表(受託側)管理栄養士・栄養士 職名 | J96: ▼選択：管理栄養士／栄養士
A97: 代表(受託側)管理栄養士・栄養士 氏名
A98: 代表(受託側) 在籍年数 | J98: 半角数字（小数可）
A99: ⑫栄養ケア・マネジメントの実施
A100: 栄養ケア・マネジメントの実施 | G100: １有 | J100: ▼選択：１有／２無 | S100: =IF($D$8="該当する",0,COUNTBLANK(D100)) -> 1
A101: ⑬介護報酬・障害福祉サービス等報酬の算定
A102: 介護報酬の算定又は障害福祉サービス等報酬の算定 | G102: １有 | J102: ▼選択：１有／２無 | S102: =IF($D$8="該当する",0,COUNTBLANK(D102)) -> 1
A103: 算定：１栄養マネジメント強化加算 | G103: ○ | J103: ▼選択：○（該当する）／－（該当しない） | S103: =IF(OR($D$8="該当する",AND($D$102<>"",$D$102<>"１有")),0,COUNTBLANK(D103)) -> 1
...

Sheet 【施設・保健所用】印刷シート（入力不要）
A1: 第４号様式（第３条関係） | K1: 食数が１回２０食未満かつ１日５０食未満の施設は①③⑧⑪㉖の項目を報告してください。
A3: 栄養管理報告書（介護保険施設・社会福祉施設用） | U3: =IF('【施設用】入力シート（こちらにご入力ください）'!$I$1="","","施設番号："&'【施設用】入力シート（こちらにご入力ください）'!$I$1) | V3: =IF('【施設用】入力シート（こちらにご入力ください）'!$D$10=""," 年 月 日",'【施設用】入力シート（こちらにご入力ください）'!$D$10) -> 年 月 日
A5: 施設の名称 | G5: =IF('【施設用】入力シート（こちらにご入力ください）'!$D$12="","",'【施設用】入力シート（こちらにご入力ください）'!$D$12) | Q5: 栄養管理部門名 | X5: =IF('【施設用】入力シート（こちらにご入力ください）'!$D$17="","",'【施設用】入力シート（こちらにご入力ください）'!$D$17)
A6: 施設の所在地 〒 | G6: =IF('【施設用】入力シート（こちらにご入力ください）'!$D$13="","",'【施設用】入力シート（こちらにご入力ください）'!$D$13)&" "&IF('【施設用】入力シート（こちらにご入力ください）'!$D$14="","",'【施設用】入力シート（こちらにご入力ください）'!$D$14) | Q6: 栄養管理責任者（職名・氏名） | X6: =IF('【施設用】入力シート（こちらにご入力ください）'!$D$18="","",'【施設用】入力シート（こちらにご入力ください）'!$D$18)
A7: 施設設置者（職名・氏名） | G7: =IF('【施設用】入力シート（こちらにご入力ください）'!$D$15="","",'【施設用】入力シート（こちらにご入力ください）'!$D$15) | Q7: ＴＥＬ | T7: =IF('【施設用】入力シート（こちらにご入力ください）'!$D$19="","",'【施設用】入力シート（こちらにご入力ください）'!$D$19) | Z7: ＦＡＸ | AC7: =IF('【施設用】入力シート（こちらにご入力ください）'!$D$20="","",'【施設用】入力シート（こちらにご入力ください）'!$D$20)
A8: 施設管理者（職名・氏名） | G8: =IF('【施設用】入力シート（こちらにご入力ください）'!$D$16="","",'【施設用】入力シート（こちらにご入力ください）'!$D$16) | Q8: 代表Ｅ-mail | X8: =IF('【施設用】入力シート（こちらにご入力ください）'!$D$21="","",'【施設用】入力シート（こちらにご入力ください）'!$D$21)
A9: =IF('【施設用】入力シート（こちらにご入力ください）'!$D$11="","岐阜県 保健所長 様","岐阜県 "&'【施設用】入力シート（こちらにご入力ください）'!$D$11&"長 様") -> 岐阜県 保健所長 様
A10: 岐阜県健康増進法施行細則第３条の規定により、11月中に実施した給食について報告します。
A11: ①施設種別 | F11: =IF('【施設用】入力シート（こちらにご入力ください）'!$D$23="１介護老人保健施設","①介護老人保健施設","１介護老人保健施設")&" "&IF('【施設用】入力シート（こちらにご入力ください）'!$D$23="２介護医療院","②介護医療院","２介護医療院")&" "&IF('【施設用】入力シート（こちらにご入力ください）'!$D$23="３老人福祉施設","③老人福祉施設","３老人福祉施設")&" "&IF('【施設用】入力シート（こちらにご入力ください）'!$D$23="４社会福祉施設","④社会福祉施設","４社会福祉施設") -> １介護老人保健施設 ２介護医療院 ３老人福祉施設 ４社会福祉施設
A12: ②組織の位置付け | F12: =IF('【施設用】入力シート（こちらにご入力ください）'!$D$25="１栄養部","①栄養部","１栄養部")&" "&IF('【施設用】入力シート（こちらにご入力ください）'!$D$25="２診療部","②診療部","２診療部")&" "&IF('【施設用】入力シート（こちらにご入力ください）'!$D$25="３事務部","③事務部","３事務部")&" "&IF('【施設用】入力シート（こちらにご入力ください）'!$D$25="４その他","④その他","４その他")&"("&IF('【施設用】入力シート（こちらにご入力ください）'!$D$26=""," ",'【施設用】入力シート（こちらにご入力ください）'!$D$26)&")" -> １栄養部 ２診療部 ３事務部 ４その他( )
A13: ③給食の運営方式 | F13: =IF('【施設用】入力シート（こちらにご入力ください）'!$D$28="１直営","①直営","１直営")&" "&IF('【施設用】入力シート（こちらにご入力ください）'!$D$28="２委託","②委託","２委託")&"( "&IF('【施設用】入力シート（こちらにご入力ください）'!$D$29="全面","■全面","□全面")&"・"&IF('【施設用】入力シート（こちらにご入力ください）'!$D$29="一部","■一部","□一部")&" )" -> １直営 ２委託( □全面・□一部 ) | Q13: 委託契約書類の整備 | W13: =IF('【施設用】入力シート（こちらにご入力ください）'!$D$30="１有","①有","１有")&" "&IF('【施設用】入力シート（こちらにご入力ください）'!$D$30="２無","②無","２無") -> １有 ２無
A14: 委託先名称 | F14: =IF('【施設用】入力シート（こちらにご入力ください）'!$D$31="","",'【施設用】入力シート（こちらにご入力ください）'!$D$31) | Q14: 所在地 | T14: =IF('【施設用】入力シート（こちらにご入力ください）'!$D$32="","",'【施設用】入力シート（こちらにご入力ください）'!$D$32)
A15: 委託内容 | F15: =IF('【施設用】入力シート（こちらにご入力ください）'!$D$33="○","①献立作成","１献立作成")&" "&IF('【施設用】入力シート（こちらにご入力ください）'!$D$34="○","②材料購入","２材料購入")&" "&IF('【施設用】入力シート（こちらにご入力ください）'!$D$35="○","③調理","３調理")&" "&IF('【施設用】入力シート（こちらにご入力ください）'!$D$36="○","④配膳","４配膳")&" "&IF('【施設用】入力シート（こちらにご入力ください）'!$D$37="○","⑤下膳","５下膳")&" "&IF('【施設用】入力シート（こちらにご入力ください）'!$D$38="○","⑥食器洗浄","６食器洗浄")&" "&IF('【施設用】入力シート（こちらにご入力ください）'!$D$39="○","⑦施設外調理","７施設外調理")&" "&IF('【施設用】入力シート（こちらにご入力ください）'!$D$40="○","⑧その他","８その他")&"("&IF('【施設用】入力シート（こちらにご入力ください）'!$D$41=""," ",'【施設用】入力シート（こちらにご入力ください）'!$D$41)&")" -> １献立作成 ２材料購入 ３調理 ４配膳 ５下膳 ６食器洗浄 ７施設外調理 ８その他( )
A16: ④栄養管理業務担当部門(給食)の理念・目標・方針 | N16: =IF('【施設用】入力シート（こちらにご入力ください）'!$D$43="１有","①有","１有")&" "&IF('【施設用】入力シート（こちらにご入力ください）'!$D$43="２無","②無","２無") -> １有 ２無 | T16: ⑤組織図 | W16: =IF('【施設用】入力シート（こちらにご入力ください）'!$D$44="１有","①有","１有")&" "&IF('【施設用】入力シート（こちらにご入力ください）'!$D$44="２無","②無","２無") -> １有 ２無
A17: ⑥栄養管理等について検討する会議 | N17: =IF('【施設用】入力シート（こちらにご入力ください）'!$D$46="１有","①有","１有")&" "&IF('【施設用】入力シート（こちらにご入力ください）'!$D$46="２無","②無","２無") -> １有 ２無 | T17: 名 称 | W17: =IF('【施設用】入力シート（こちらにご入力ください）'!$D$47="","",'【施設用】入力シート（こちらにご入力ください）'!$D$47)
A18: 実施回数 | F18: ="(" -> ( | G18: =IF('【施設用】入力シート（こちらにご入力ください）'!$D$48=""," ",'【施設用】入力シート（こちらにご入力ください）'!$D$48) | L18: ）回／ | N18: =IF('【施設用】入力シート（こちらにご入力ください）'!$D$49="週","■週","□週")&"・"&IF('【施設用】入力シート（こちらにご入力ください）'!$D$49="月","■月","□月")&"・"&IF('【施設用】入力シート（こちらにご入力ください）'!$D$49="年","■年","□年") -> □週・□月・□年 | T18: 会議の記録 | W18: =IF('【施設用】入力シート（こちらにご入力ください）'!$D$50="１有","①有","１有")&" "&IF('【施設用】入力シート（こちらにご入力ください）'!$D$50="２無","②無","２無") -> １有 ２無
A19: 構成職種 | F19: =IF('【施設用】入力シート（こちらにご入力ください）'!$D$51="○","①施設長","１施設長")&" "&IF('【施設用】入力シート（こちらにご入力ください）'!$D$52="○","②医師","２医師")&" "&IF('【施設用】入力シート（こちらにご入力ください）'!$D$53="○","③管理栄養士・栄養士","３管理栄養士・栄養士")&" "&IF('【施設用】入力シート（こちらにご入力ください）'!$D$54="○","④調理師(員)","４調理師(員)")&" "&IF('【施設用】入力シート（こちらにご入力ください）'!$D$55="○","⑤受託業者","５受託業者") -> １施設長 ２医師 ３管理栄養士・栄養士 ４調理師(員) ５受託業者
F20: =IF('【施設用】入力シート（こちらにご入力ください）'!$D$56="○","⑥介護担当者","６介護担当者")&" "&IF('【施設用】入力シート（こちらにご入力ください）'!$D$57="○","⑦利用者代表","７利用者代表")&" "&IF('【施設用】入力シート（こちらにご入力ください）'!$D$58="○","⑧その他","８その他")&"("&IF('【施設用】入力シート（こちらにご入力ください）'!$D$59=""," ",'【施設用】入力シート（こちらにご入力ください）'!$D$59)&")" -> ６介護担当者 ７利用者代表 ８その他( ) | AA20: ="合計 "&IF('【施設用】入力シート（こちらにご入力ください）'!$D$60=""," ",'【施設用】入力シート（こちらにご入力ください）'!$D$60)&" 人" -> 合計 人
A21: 会議の目的 | F21: =IF('【施設用】入力シート（こちらにご入力ください）'!$D$61="","",'【施設用】入力シート（こちらにご入力ください）'!$D$61)
A22: ⑦従事者の研修 | H22: =IF('【施設用】入力シート（こちらにご入力ください）'!$D$63="１有","①有","１有")&" "&IF('【施設用】入力シート（こちらにご入力ください）'!$D$63="２無","②無","２無") -> １有 ２無
A23: ="管理栄養士・栄養士１人当たりの参加回数（" -> 管理栄養士・栄養士１人当たりの参加回数（ | L23: =IF('【施設用】入力シート（こちらにご入力ください）'!$D$64=""," ",'【施設用】入力シート（こちらにご入力ください）'!$D$64) | O23: ）回／年 | R23: ="調理従事者１人当たりの参加回数（" -> 調理従事者１人当たりの参加回数（ | AA23: =IF('【施設用】入力シート（こちらにご入力ください）'!$D$65=""," ",'【施設用】入力シート（こちらにご入力ください）'!$D$65) | AD23: ）回／年
A25: ⑧食数 | E25: 定員 | H25: 朝 | K25: 昼 | N25: 夕 | Q25: その他 ※おやつを除く | U25: 備考 | X25: ⑨栄養補給法
A26: 入所者 | E26: =IF('【施設用】入力シート（こちらにご入力ください）'!$D$68="","",'【施設用】入力シート（こちらにご入力ください）'!$D$68) | H26: =IF('【施設用】入力シート（こちらにご入力ください）'!$E$68="","",'【施設用】入力シート（こちらにご入力ください）'!$E$68) | K26: =IF('【施設用】入力シート（こちらにご入力ください）'!$F$68="","",'【施設用】入力シート（こちらにご入力ください）'!$F$68) | N26: =IF('【施設用】入力シート（こちらにご入力ください）'!$G$68="","",'【施設用】入力シート（こちらにご入力ください）'!$G$68) | Q26: =IF('【施設用】入力シート（こちらにご入力ください）'!$H$68="","",'【施設用】入力シート（こちらにご入力ください）'!$H$68) | U26: =IF(AND('【施設用】入力シート（こちらにご入力ください）'!$I$68="",'【施設用】入力シート（こちらにご入力ください）'!$K$68=""),"",'【施設用】入力シート（こちらにご入力ください）'!$I$68&IF('【施設用】入力シート（こちらにご入力ください）'!$K$68="",""," "&'【施設用】入力シート（こちらにご入力ください）'!$K$68&"食")) | X26: 経口栄養法 | AC26: =IF('【施設用】入力シート（こちらにご入力ください）'!$D$77=""," ",'【施設用】入力シート（こちらにご入力ください）'!$D$77)&" 人" -> 人
A27: 短期入所者 | E27: =IF('【施設用】入力シート（こちらにご入力ください）'!$D$69="","",'【施設用】入力シート（こちらにご入力ください）'!$D$69) | H27: =IF('【施設用】入力シート（こちらにご入力ください）'!$E$69="","",'【施設用】入力シート（こちらにご入力ください）'!$E$69) | K27: =IF('【施設用】入力シート（こちらにご入力ください）'!$F$69="","",'【施設用】入力シート（こちらにご入力ください）'!$F$69) | N27: =IF('【施設用】入力シート（こちらにご入力ください）'!$G$69="","",'【施設用】入力シート（こちらにご入力ください）'!$G$69) | Q27: =IF('【施設用】入力シート（こちらにご入力ください）'!$H$69="","",'【施設用】入力シート（こちらにご入力ください）'!$H$69) | U27: =IF(AND('【施設用】入力シート（こちらにご入力ください）'!$I$69="",'【施設用】入力シート（こちらにご入力ください）'!$K$69=""),"",'【施設用】入力シート（こちらにご入力ください）'!$I$69&IF('【施設用】入力シート（こちらにご入力ください）'!$K$69="",""," "&'【施設用】入力シート（こちらにご入力ください）'!$K$69&"食")) | X27: 経腸栄養法 | AC27: =IF('【施設用】入力シート（こちらにご入力ください）'!$D$78=""," ",'【施設用】入力シート（こちらにご入力ください）'!$D$78)&" 人" -> 人
A28: 日中利用者 | E28: =IF('【施設用】入力シート（こちらにご入力ください）'!$D$70="","",'【施設用】入力シート（こちらにご入力ください）'!$D$70) | H28: =IF('【施設用】入力シート（こちらにご入力ください）'!$E$70="","",'【施設用】入力シート（こちらにご入力ください）'!$E$70) | K28: =IF('【施設用】入力シート（こちらにご入力ください）'!$F$70="","",'【施設用】入力シート（こちらにご入力ください）'!$F$70) | N28: =IF('【施設用】入力シート（こちらにご入力ください）'!$G$70="","",'【施設用】入力シート（こちらにご入力ください）'!$G$70) | Q28: =IF('【施設用】入力シート（こちらにご入力ください）'!$H$70="","",'【施設用】入力シート（こちらにご入力ください）'!$H$70) | U28: =IF(AND('【施設用】入力シート（こちらにご入力ください）'!$I$70="",'【施設用】入力シート（こちらにご入力ください）'!$K$70=""),"",'【施設用】入力シート（こちらにご入力ください）'!$I$70&IF('【施設用】入力シート（こちらにご入力ください）'!$K$70="",""," "&'【施設用】入力シート（こちらにご入力ください）'!$K$70&"食")) | X28: ⑩食種
A29: その他(配食) | E29: =IF('【施設用】入力シート（こちらにご入力ください）'!$D$71="","",'【施設用】入力シート（こちらにご入力ください）'!$D$71) | H29: =IF('【施設用】入力シート（こちらにご入力ください）'!$E$71="","",'【施設用】入力シート（こちらにご入力ください）'!$E$71) | K29: =IF('【施設用】入力シート（こちらにご入力ください）'!$F$71="","",'【施設用】入力シート（こちらにご入力ください）'!$F$71) | N29: =IF('【施設用】入力シート（こちらにご入力ください）'!$G$71="","",'【施設用】入力シート（こちらにご入力ください）'!$G$71) | Q29: =IF('【施設用】入力シート（こちらにご入力ください）'!$H$71="","",'【施設用】入力シート（こちらにご入力ください）'!$H$71) | U29: =IF(AND('【施設用】入力シート（こちらにご入力ください）'!$I$71="",'【施設用】入力シート（こちらにご入力ください）'!$K$71=""),"",'【施設用】入力シート（こちらにご入力ください）'!$I$71&IF('【施設用】入力シート（こちらにご入力ください）'!$K$71="",""," "&'【施設用】入力シート（こちらにご入力ください）'!$K$71&"食")) | X29: 常食 | AC29: =IF('【施設用】入力シート（こちらにご入力ください）'!$D$80=""," ",'【施設用】入力シート（こちらにご入力ください）'!$D$80)&" 人" -> 人
A30: 職員 | E30: =IF('【施設用】入力シート（こちらにご入力ください）'!$D$72="","",'【施設用】入力シート（こちらにご入力ください）'!$D$72) | H30: =IF('【施設用】入力シート（こちらにご入力ください）'!$E$72="","",'【施設用】入力シート（こちらにご入力ください）'!$E$72) | K30: =IF('【施設用】入力シート（こちらにご入力ください）'!$F$72="","",'【施設用】入力シート（こちらにご入力ください）'!$F$72) | N30: =IF('【施設用】入力シート（こちらにご入力ください）'!$G$72="","",'【施設用】入力シート（こちらにご入力ください）'!$G$72) | Q30: =IF('【施設用】入力シート（こちらにご入力ください）'!$H$72="","",'【施設用】入力シート（こちらにご入力ください）'!$H$72) | U30: =IF(AND('【施設用】入力シート（こちらにご入力ください）'!$I$72="",'【施設用】入力シート（こちらにご入力ください）'!$K$72=""),"",'【施設用】入力シート（こちらにご入力ください）'!$I$72&IF('【施設用】入力シート（こちらにご入力ください）'!$K$72="",""," "&'【施設用】入力シート（こちらにご入力ください）'!$K$72&"食")) | X30: 軟食 | AC30: =IF('【施設用】入力シート（こちらにご入力ください）'!$D$81=""," ",'【施設用】入力シート（こちらにご入力ください）'!$D$81)&" 人" -> 人
A31: =IF('【施設用】入力シート（こちらにご入力ください）'!$A$73="","",'【施設用】入力シート（こちらにご入力ください）'!$A$73) | E31: =IF('【施設用】入力シート（こちらにご入力ください）'!$D$73="","",'【施設用】入力シート（こちらにご入力ください）'!$D$73) | H31: =IF('【施設用】入力シート（こちらにご入力ください）'!$E$73="","",'【施設用】入力シート（こちらにご入力ください）'!$E$73) | K31: =IF('【施設用】入力シート（こちらにご入力ください）'!$F$73="","",'【施設用】入力シート（こちらにご入力ください）'!$F$73) | N31: =IF('【施設用】入力シート（こちらにご入力ください）'!$G$73="","",'【施設用】入力シート（こちらにご入力ください）'!$G$73) | Q31: =IF('【施設用】入力シート（こちらにご入力ください）'!$H$73="","",'【施設用】入力シート（こちらにご入力ください）'!$H$73) | U31: =IF(AND('【施設用】入力シート（こちらにご入力ください）'!$I$73="",'【施設用】入力シート（こちらにご入力ください）'!$K$73=""),"",'【施設用】入力シート（こちらにご入力ください）'!$I$73&IF('【施設用】入力シート（こちらにご入力ください）'!$K$73="",""," "&'【施設用】入力シート（こちらにご入力ください）'!$K$73&"食")) | X31: 流動食 | AC31: =IF('【施設用】入力シート（こちらにご入力ください）'!$D$82=""," ",'【施設用】入力シート（こちらにご入力ください）'!$D$82)&" 人" -> 人
A32: 計 | E32: =IF(COUNT(E26:G31)=0,"",SUM(E26:G31)) | H32: =IF(COUNT(H26:J31)=0,"",SUM(H26:J31)) | K32: =IF(COUNT(K26:M31)=0,"",SUM(K26:M31)) | N32: =IF(COUNT(N26:P31)=0,"",SUM(N26:P31)) | Q32: =IF(COUNT(Q26:T31)=0,"",SUM(Q26:T31)) | S32: 合計 | U32: =IF(COUNT(H32:R32)=0,"",SUM(H32:R32)) | X32: 療養食加算対象食 | AC32: =IF('【施設用】入力シート（こちらにご入力ください）'!$D$83=""," ",'【施設用】入力シート（こちらにご入力ください）'!$D$83)&" 人" -> 人
A34: ⑪従事者数 | G34: 施設側（人） | O34: 受託側（人） | W34: 代 表 | AB34: 氏 名 | AE34: 在籍 年数
G35: 常 勤 | K35: 非常勤 | O35: 常 勤 | S35: 非常勤
A36: 管理栄養士 | G36: =IF('【施設用】入力シート（こちらにご入力ください）'!$D$86="","",'【施設用】入力シート（こちらにご入力ください）'!$D$86) | K36: =IF('【施設用】入力シート（こちらにご入力ください）'!$E$86="","",'【施設用】入力シート（こちらにご入力ください）'!$E$86) | O36: =IF('【施設用】入力シート（こちらにご入力ください）'!$F$86="","",'【施設用】入力シート（こちらにご入力ください）'!$F$86) | S36: =IF('【施設用】入力シート（こちらにご入力ください）'!$G$86="","",'【施設用】入力シート（こちらにご入力ください）'!$G$86) | W36: ="(施設側)"&CHAR(10)&IF('【施設用】入力シート（こちらにご入力ください）'!$D$93="管理栄養士","■管理栄養士・□栄養士",IF('【施設用】入力シート（こちらにご入力ください）'!$D$93="栄養士","□管理栄養士・■栄養士","□管理栄養士・□栄養士")) -> (施設側) □管理栄養士・□栄養士 | AB36: =IF('【施設用】入力シート（こちらにご入力ください）'!$D$94="","",'【施設用】入力シート（こちらにご入力ください）'!$D$94) | AE36: =IF('【施設用】入力シート（こちらにご入力ください）'!$D$95="","",'【施設用】入力シート（こちらにご入力ください）'!$D$95)
A37: 栄養士 | G37: =IF('【施設用】入力シート（こちらにご入力ください）'!$D$87="","",'【施設用】入力シート（こちらにご入力ください）'!$D$87) | K37: =IF('【施設用】入力シート（こちらにご入力ください）'!$E$87="","",'【施設用】入力シート（こちらにご入力ください）'!$E$87) | O37: =IF('【施設用】入力シート（こちらにご入力ください）'!$F$87="","",'【施設用】入力シート（こちらにご入力ください）'!$F$87) | S37: =IF('【施設用】入力シート（こちらにご入力ください）'!$G$87="","",'【施設用】入力シート（こちらにご入力ください）'!$G$87)
A38: 調理師 | G38: =IF('【施設用】入力シート（こちらにご入力ください）'!$D$88="","",'【施設用】入力シート（こちらにご入力ください）'!$D$88) | K38: =IF('【施設用】入力シート（こちらにご入力ください）'!$E$88="","",'【施設用】入力シート（こちらにご入力ください）'!$E$88) | O38: =IF('【施設用】入力シート（こちらにご入力ください）'!$F$88="","",'【施設用】入力シート（こちらにご入力ください）'!$F$88) | S38: =IF('【施設用】入力シート（こちらにご入力ください）'!$G$88="","",'【施設用】入力シート（こちらにご入力ください）'!$G$88) | W38: ="(受託側)"&CHAR(10)&IF('【施設用】入力シート（こちらにご入力ください）'!$D$96="管理栄養士","■管理栄養士・□栄養士",IF('【施設用】入力シート（こちらにご入力ください）'!$D$96="栄養士","□管理栄養士・■栄養士","□管理栄養士・□栄養士")) -> (受託側) □管理栄養士・□栄養士 | AB38: =IF('【施設用】入力シート（こちらにご入力ください）'!$D$97="","",'【施設用】入力シート（こちらにご入力ください）'!$D$97) | AE38: =IF('【施設用】入力シート（こちらにご入力ください）'!$D$98="","",'【施設用】入力シート（こちらにご入力ください）'!$D$98)
A39: 調理員 | G39: =IF('【施設用】入力シート（こちらにご入力ください）'!$D$89="","",'【施設用】入力シート（こちらにご入力ください）'!$D$89) | K39: =IF('【施設用】入力シート（こちらにご入力ください）'!$E$89="","",'【施設用】入力シート（こちらにご入力ください）'!$E$89) | O39: =IF('【施設用】入力シート（こちらにご入力ください）'!$F$89="","",'【施設用】入力シート（こちらにご入力ください）'!$F$89) | S39: =IF('【施設用】入力シート（こちらにご入力ください）'!$G$89="","",'【施設用】入力シート（こちらにご入力ください）'!$G$89)
A40: その他 | G40: =IF('【施設用】入力シート（こちらにご入力ください）'!$D$90="","",'【施設用】入力シート（こちらにご入力ください）'!$D$90) | K40: =IF('【施設用】入力シート（こちらにご入力ください）'!$E$90="","",'【施設用】入力シート（こちらにご入力ください）'!$E$90) | O40: =IF('【施設用】入力シート（こちらにご入力ください）'!$F$90="","",'【施設用】入力シート（こちらにご入力ください）'!$F$90) | S40: =IF('【施設用】入力シート（こちらにご入力ください）'!$G$90="","",'【施設用】入力シート（こちらにご入力ください）'!$G$90)
A41: 合 計 | G41: =IF(COUNT(G36:J40)=0,"",SUM(G36:J40)) | K41: =IF(COUNT(K36:N40)=0,"",SUM(K36:N40)) | O41: =IF(COUNT(O36:R40)=0,"",SUM(O36:R40)) | S41: =IF(COUNT(S36:V40)=0,"",SUM(S36:V40))
A43: ⑫栄養ケア・マネジメントの実施 | O43: =IF('【施設用】入力シート（こちらにご入力ください）'!$D$100="１有","①有","１有")&" "&IF('【施設用】入力シート（こちらにご入力ください）'!$D$100="２無","②無","２無") -> １有 ２無
A44: ⑬介護報酬の算定又は障害福祉サービス等報酬の算定 | O44: =IF('【施設用】入力シート（こちらにご入力ください）'!$D$102="１有","①有","１有")&" "&IF('【施設用】入力シート（こちらにご入力ください）'!$D$102="２無","②無","２無") -> １有 ２無
A45: =IF('【施設用】入力シート（こちらにご入力ください）'!$D$103="○","①栄養マネジメント強化加算","１栄養マネジメント強化加算")&" "&IF('【施設用】入力シート（こちらにご入力ください）'!$D$104="○","②経口移行加算","２経口移行加算")&" "&IF('【施設用】入力シート（こちらにご入力ください）'!$D$105="○","③経口維持加算","３経口維持加算")&" "&IF('【施設用】入力シート（こちらにご入力ください）'!$D$106="○","④療養食加算","４療養食加算")&" "&IF('【施設用】入力シート（こちらにご入力ください）'!$D$107="○","⑤再入所時栄養連携加算","５再入所時栄養連携加算")&CHAR(10)&IF('【施設用】入力シート（こちらにご入力ください）'!$D$108="○","⑥その他","６その他")&"("&IF('【施設用】入力シート（こちらにご入力ください）'!$D$109=""," ",'【施設用】入力シート（こちらにご入力ください）'!$D$109)&")" -> １栄養マネジメント強化加算 ２経口移行加算 ３経口維持加算 ４療養食加算 ５再入所時栄養連携加算 ６その他( )
A47: ⑭利用者の把握 | F47: =IF('【施設用】入力シート（こちらにご入力ください）'!$D$111="１有","①有","１有")&" "&IF('【施設用】入力シート（こちらにご入力ください）'!$D$111="２無","②無","２無") -> １有 ２無 | Q47: ="※ "&IF('【施設用】入力シート（こちらにご入力ください）'!$D$112=""," ",'【施設用】入力シート（こちらにご入力ください）'!$D$112)&"月 "&IF('【施設用】入力シート（こちらにご入力ください）'!$D$113=""," ",'【施設用】入力シート（こちらにご入力ください）'!$D$113)&"日現在" -> ※ 月 日現在
A48: 年齢区分 | F48: =IF('【施設用】入力シート（こちらにご入力ください）'!$D$115="","",'【施設用】入力シート（こちらにご入力ください）'!$D$115) | J48: =IF('【施設用】入力シート（こちらにご入力ください）'!$E$115="","",'【施設用】入力シート（こちらにご入力ください）'!$E$115) | N48: =IF('【施設用】入力シート（こちらにご入力ください）'!$F$115="","",'【施設用】入力シート（こちらにご入力ください）'!$F$115) | R48: =IF('【施設用】入力シート（こちらにご入力ください）'!$G$115="","",'【施設用】入力シート（こちらにご入力ください）'!$G$115) | V48: 合 計 | Y48: 身長の把握 | AC48: =IF('【施設用】入力シート（こちらにご入力ください）'!$D$120="１有","①有","１有")&" "&IF('【施設用】入力シート（こちらにご入力ください）'!$D$120="２無","②無","２無") -> １有 ２無
A49: 男性 | F49: =IF('【施設用】入力シート（こちらにご入力ください）'!$D$116="","",'【施設用】入力シート（こちらにご入力ください）'!$D$116) | J49: =IF('【施設用】入力シート（こちらにご入力ください）'!$E$116="","",'【施設用】入力シート（こちらにご入力ください）'!$E$116) | N49: =IF('【施設用】入力シート（こちらにご入力ください）'!$F$116="","",'【施設用】入力シート（こちらにご入力ください）'!$F$116) | R49: =IF('【施設用】入力シート（こちらにご入力ください）'!$G$116="","",'【施設用】入力シート（こちらにご入力ください）'!$G$116) | V49: =IF(COUNT(F49:U49)=0,"",SUM(F49:U49)) | Y49: 体 重 の 把 握 | AC49: =IF('【施設用】入力シート（こちらにご入力ください）'!$D$121="１有","①有","１有")&" "&IF('【施設用】入力シート（こちらにご入力ください）'!$D$121="２無","②無","２無") -> １有 ２無
A50: 女性 | F50: =IF('【施設用】入力シート（こちらにご入力ください）'!$D$117="","",'【施設用】入力シート（こちらにご入力ください）'!$D$117) | J50: =IF('【施設用】入力シート（こちらにご入力ください）'!$E$117="","",'【施設用】入力シート（こちらにご入力ください）'!$E$117) | N50: =IF('【施設用】入力シート（こちらにご入力ください）'!$F$117="","",'【施設用】入力シート（こちらにご入力ください）'!$F$117) | R50: =IF('【施設用】入力シート（こちらにご入力ください）'!$G$117="","",'【施設用】入力シート（こちらにご入力ください）'!$G$117) | V50: =IF(COUNT(F50:U50)=0,"",SUM(F50:U50)) | Y50: 肥満度 (BMI)の把握 | AC50: =IF('【施設用】入力シート（こちらにご入力ください）'!$D$122="１有","①有","１有")&" "&IF('【施設用】入力シート（こちらにご入力ください）'!$D$122="２無","②無","２無") -> １有 ２無
A51: 合計 | F51: =IF(COUNT(F49:I50)=0,"",SUM(F49:I50)) | J51: =IF(COUNT(J49:M50)=0,"",SUM(J49:M50)) | N51: =IF(COUNT(N49:Q50)=0,"",SUM(N49:Q50)) | R51: =IF(COUNT(R49:U50)=0,"",SUM(R49:U50)) | V51: =IF(COUNT(V49:X50)=0,"",SUM(V49:X50))
A52: 疾病状況等の把握 | F52: =IF('【施設用】入力シート（こちらにご入力ください）'!$D$123="１有","①有","１有")&" "&IF('【施設用】入力シート（こちらにご入力ください）'!$D$123="２無","②無","２無") -> １有 ２無 | J52: ="高血圧"&"("&IF('【施設用】入力シート（こちらにご入力ください）'!$D$124=""," ",'【施設用】入力シート（こちらにご入力ください）'!$D$124)&")人"&","&"高血糖"&"("&IF('【施設用】入力シート（こちらにご入力ください）'!$D$125=""," ",'【施設用】入力シート（こちらにご入力ください）'!$D$125)&")人"&","&"脂質異常症"&"("&IF('【施設用】入力シート（こちらにご入力ください）'!$D$126=""," ",'【施設用】入力シート（こちらにご入力ください）'!$D$126)&")人"&","&"貧血"&"("&IF('【施設用】入力シート（こちらにご入力ください）'!$D$127=""," ",'【施設用】入力シート（こちらにご入力ください）'!$D$127)&")人"&","&"骨粗鬆症"&"("&IF('【施設用】入力シート（こちらにご入力ください）'!$D$128=""," ",'【施設用】入力シート（こちらにご入力ください）'!$D$128)&")人"&","&"その他"&"("&IF('【施設用】入力シート（こちらにご入力ください）'!$D$129=""," ",'【施設用】入力シート（こちらにご入力ください）'!$D$129)&")人"&"" -> 高血圧( )人,高血糖( )人,脂質異常症( )人,貧血( )人,骨粗鬆症( )人,その他( )人
A54: ⑮栄養量と評価 | F54: 食種名(提供の多い給食) | L54: =IF('【施設用】入力シート（こちらにご入力ください）'!$D$132="","",'【施設用】入力シート（こちらにご入力ください）'!$D$132) | V54: 給与栄養目標量の設定年月 | AB54: =IF('【施設用】入力シート（こちらにご入力ください）'!$D$133=""," ",'【施設用】入力シート（こちらにご入力ください）'!$D$133)&"年 "&IF('【施設用】入力シート（こちらにご入力ください）'!$D$134=""," ",'【施設用】入力シート（こちらにご入力ください）'!$D$134)&"月" -> 年 月
A55: 給与栄養目標量の設定根拠 | L55: =IF('【施設用】入力シート（こちらにご入力ください）'!$D$135="","",'【施設用】入力シート（こちらにご入力ください）'!$D$135)
A56: 給与栄養目標量・給与量に含まれる食事 | L56: =IF('【施設用】入力シート（こちらにご入力ください）'!$D$136="○","①朝食","１朝食")&" "&IF('【施設用】入力シート（こちらにご入力ください）'!$D$137="○","②昼食","２昼食")&" "&IF('【施設用】入力シート（こちらにご入力ください）'!$D$138="○","③夕食","３夕食")&" "&IF('【施設用】入力シート（こちらにご入力ください）'!$D$139="○","④おやつ","４おやつ")&" "&IF('【施設用】入力シート（こちらにご入力ください）'!$D$140="○","⑤その他","５その他")&"（"&IF('【施設用】入力シート（こちらにご入力ください）'!$D$141=""," ",'【施設用】入力シート（こちらにご入力ください）'!$D$141)&"）" -> １朝食 ２昼食 ３夕食 ４おやつ ５その他（ ）
E57: エネルギー (kcal) | G57: たんぱく質 (g) | I57: 脂質 (g) | K57: カルシウム (㎎) | M57: 鉄 (㎎) | O57: ビタミン | W57: 食物繊維 (g) | Y57: 食塩相当量 (g) | AA57: 炭水化物エネルギー比 (%) | AC57: 脂質エネルギー比 (%) | AE57: たんぱく質エネルギー比 (%)
O58: Ａ(μg) | Q58: Ｂ１(㎎) | S58: Ｂ２(㎎) | U58: Ｃ(㎎)
A59: 給与栄養 目標量 | E59: =IF('【施設用】入力シート（こちらにご入力ください）'!$D$143="","",'【施設用】入力シート（こちらにご入力ください）'!$D$143) | G59: =IF('【施設用】入力シート（こちらにご入力ください）'!$E$143="","",'【施設用】入力シート（こちらにご入力ください）'!$E$143) | I59: =IF('【施設用】入力シート（こちらにご入力ください）'!$F$143="","",'【施設用】入力シート（こちらにご入力ください）'!$F$143) | K59: =IF('【施設用】入力シート（こちらにご入力ください）'!$G$143="","",'【施設用】入力シート（こちらにご入力ください）'!$G$143) | M59: =IF('【施設用】入力シート（こちらにご入力ください）'!$H$143="","",'【施設用】入力シート（こちらにご入力ください）'!$H$143) | O59: =IF('【施設用】入力シート（こちらにご入力ください）'!$I$143="","",'【施設用】入力シート（こちらにご入力ください）'!$I$143) | Q59: =IF('【施設用】入力シート（こちらにご入力ください）'!$J$143="","",'【施設用】入力シート（こちらにご入力ください）'!$J$143) | S59: =IF('【施設用】入力シート（こちらにご入力ください）'!$K$143="","",'【施設用】入力シート（こちらにご入力ください）'!$K$143) | U59: =IF('【施設用】入力シート（こちらにご入力ください）'!$L$143="","",'【施設用】入力シート（こちらにご入力ください）'!$L$143) | W59: =IF('【施設用】入力シート（こちらにご入力ください）'!$M$143="","",'【施設用】入力シート（こちらにご入力ください）'!$M$143) | Y59: =IF('【施設用】入力シート（こちらにご入力ください）'!$N$143="","",'【施設用】入力シート（こちらにご入力ください）'!$N$143) | AA59: =IF('【施設用】入力シート（こちらにご入力ください）'!$O$143="","",'【施設用】入力シート（こちらにご入力ください）'!$O$143) | AC59: =IF('【施設用】入力シート（こちらにご入力ください）'!$P$143="","",'【施設用】入力シート（こちらにご入力ください）'!$P$143) | AE59: =IF('【施設用】入力シート（こちらにご入力ください）'!$Q$143="","",'【施設用】入力シート（こちらにご入力ください）'!$Q$143)
A60: 給与栄養量 (実際量) | E60: =IF('【施設用】入力シート（こちらにご入力ください）'!$D$144="","",'【施設用】入力シート（こちらにご入力ください）'!$D$144) | G60: =IF('【施設用】入力シート（こちらにご入力ください）'!$E$144="","",'【施設用】入力シート（こちらにご入力ください）'!$E$144) | I60: =IF('【施設用】入力シート（こちらにご入力ください）'!$F$144="","",'【施設用】入力シート（こちらにご入力ください）'!$F$144) | K60: =IF('【施設用】入力シート（こちらにご入力ください）'!$G$144="","",'【施設用】入力シート（こちらにご入力ください）'!$G$144) | M60: =IF('【施設用】入力シート（こちらにご入力ください）'!$H$144="","",'【施設用】入力シート（こちらにご入力ください）'!$H$144) | O60: =IF('【施設用】入力シート（こちらにご入力ください）'!$I$144="","",'【施設用】入力シート（こちらにご入力ください）'!$I$144) | Q60: =IF('【施設用】入力シート（こちらにご入力ください）'!$J$144="","",'【施設用】入力シート（こちらにご入力ください）'!$J$144) | S60: =IF('【施設用】入力シート（こちらにご入力ください）'!$K$144="","",'【施設用】入力シート（こちらにご入力ください）'!$K$144) | U60: =IF('【施設用】入力シート（こちらにご入力ください）'!$L$144="","",'【施設用】入力シート（こちらにご入力ください）'!$L$144) | W60: =IF('【施設用】入力シート（こちらにご入力ください）'!$M$144="","",'【施設用】入力シート（こちらにご入力ください）'!$M$144) | Y60: =IF('【施設用】入力シート（こちらにご入力ください）'!$N$144="","",'【施設用】入力シート（こちらにご入力ください）'!$N$144) | AA60: =IF('【施設用】入力シート（こちらにご入力ください）'!$O$144="","",'【施設用】入力シート（こちらにご入力ください）'!$O$144) | AC60: =IF('【施設用】入力シート（こちらにご入力ください）'!$P$144="","",'【施設用】入力シート（こちらにご入力ください）'!$P$144) | AE60: =IF('【施設用】入力シート（こちらにご入力ください）'!$Q$144="","",'【施設用】入力シート（こちらにご入力ください）'!$Q$144)
A61: 献立作成者 | E61: ="職種："&IF('【施設用】入力シート（こちらにご入力ください）'!$D$146="○","①管理栄養士","１管理栄養士")&" "&IF('【施設用】入力シート（こちらにご入力ください）'!$D$147="○","②栄養士","２栄養士")&" "&IF('【施設用】入力シート（こちらにご入力ください）'!$D$148="○","③調理師(員)","３調理師(員)")&" "&IF('【施設用】入力シート（こちらにご入力ください）'!$D$149="○","④その他","４その他")&"("&IF('【施設用】入力シート（こちらにご入力ください）'!$D$150=""," ",'【施設用】入力シート（こちらにご入力ください）'!$D$150)&")" -> 職種：１管理栄養士 ２栄養士 ３調理師(員) ４その他( ) | Y61: ="氏名："&IF('【施設用】入力シート（こちらにご入力ください）'!$D$151="","",'【施設用】入力シート（こちらにご入力ください）'!$D$151) -> 氏名：
A62: 給与栄養目標量に対する給与栄養量の確認及び評価 | O62: =IF('【施設用】入力シート（こちらにご入力ください）'!$D$152="１実施している","①実施している","１実施している")&"("&IF('【施設用】入力シート（こちらにご入力ください）'!$D$153="毎月","■毎月","□毎月")&"・"&IF('【施設用】入力シート（こちらにご入力ください）'!$D$153="報告月のみ","■報告月のみ","□報告月のみ")&") "&IF('【施設用】入力シート（こちらにご入力ください）'!$D$152="２実施していない","②実施していない","２実施していない") -> １実施している(□毎月・□報告月のみ) ２実施していない
A63: 栄養量に対する課題及び改善策 | I63: =IF('【施設用】入力シート（こちらにご入力ください）'!$D$154="１有","①有","１有")&"("&IF('【施設用】入力シート（こちらにご入力ください）'!$D$155=""," ",'【施設用】入力シート（こちらにご入力ください）'!$D$155)&") "&IF('【施設用】入力シート（こちらにご入力ください）'!$D$154="２無","②無","２無") -> １有( ) ２無
A64: 喫食量(残食量)の把握 | I64: =IF('【施設用】入力シート（こちらにご入力ください）'!$D$156="１有","①有","１有")&" "&IF('【施設用】入力シート（こちらにご入力ください）'!$D$156="２無","②無","２無") -> １有 ２無 | Q64: 嗜好(満足度)調査の実施 | Y64: =IF('【施設用】入力シート（こちらにご入力ください）'!$D$157="１有","①有","１有")&" "&IF('【施設用】入力シート（こちらにご入力ください）'!$D$157="２無","②無","２無") -> １有 ２無
A66: ⑯食材料費 | F66: ="一人１日当たり("&IF('【施設用】入力シート（こちらにご入力ください）'!$D$159=""," ",'【施設用】入力シート（こちらにご入力ください）'!$D$159)&")円" -> 一人１日当たり( )円 | V66: ⑰給食日誌 | AA66: =IF('【施設用】入力シート（こちらにご入力ください）'!$D$160="１有","①有","１有")&" "&IF('【施設用】入力シート（こちらにご入力ください）'!$D$160="２無","②無","２無") -> １有 ２無
A67: ⑱検食簿 | F67: =IF('【施設用】入力シート（こちらにご入力ください）'!$D$161="１有","①有","１有")&"(検食者の職種名 "&IF('【施設用】入力シート（こちらにご入力ください）'!$D$162=""," ",'【施設用】入力シート（こちらにご入力ください）'!$D$162)&") "&IF('【施設用】入力シート（こちらにご入力ください）'!$D$161="２無","②無","２無") -> １有(検食者の職種名 ) ２無 | V67: ⑲作業指示書 | AA67: =IF('【施設用】入力シート（こちらにご入力ください）'!$D$163="１有","①有","１有")&" "&IF('【施設用】入力シート（こちらにご入力ください）'!$D$163="２無","②無","２無") -> １有 ２無
A69: ⑳栄養成分表示 | H69: =IF('【施設用】入力シート（こちらにご入力ください）'!$D$165="１有","①有","１有")&" "&IF('【施設用】入力シート（こちらにご入力ください）'!$D$165="２無","②無","２無") -> １有 ２無 | L69: =IF('【施設用】入力シート（こちらにご入力ください）'!$D$166="○","①エネルギー","１エネルギー")&" "&IF('【施設用】入力シート（こちらにご入力ください）'!$D$167="○","②たんぱく質","２たんぱく質")&" "&IF('【施設用】入力シート（こちらにご入力ください）'!$D$168="○","③脂質","３脂質")&" "&IF('【施設用】入力シート（こちらにご入力ください）'!$D$169="○","④炭水化物","４炭水化物")&" "&IF('【施設用】入力シート（こちらにご入力ください）'!$D$170="○","⑤食塩相当量","５食塩相当量")&" "&IF('【施設用】入力シート（こちらにご入力ください）'!$D$171="○","⑥その他","６その他")&"("&IF('【施設用】入力シート（こちらにご入力ください）'!$D$172=""," ",'【施設用】入力シート（こちらにご入力ください）'!$D$172)&")" -> １エネルギー ２たんぱく質 ３脂質 ４炭水化物 ５食塩相当量 ６その他( )
A70: ㉑テーマ献立の導入 | H70: =IF('【施設用】入力シート（こちらにご入力ください）'!$D$173="１有","①有","１有")&" "&IF('【施設用】入力シート（こちらにご入力ください）'!$D$173="２無","②無","２無") -> １有 ２無 | L70: =IF('【施設用】入力シート（こちらにご入力ください）'!$D$174="○","①行事食","１行事食")&" "&IF('【施設用】入力シート（こちらにご入力ください）'!$D$175="○","②郷土食","２郷土食")&" "&IF('【施設用】入力シート（こちらにご入力ください）'!$D$176="○","③その他","３その他")&"("&IF('【施設用】入力シート（こちらにご入力ください）'!$D$177=""," ",'【施設用】入力シート（こちらにご入力ください）'!$D$177)&")" -> １行事食 ２郷土食 ３その他( )
A71: ㉒健康・栄養情報の提供 | H71: =IF('【施設用】入力シート（こちらにご入力ください）'!$D$178="１有","①有","１有")&" "&IF('【施設用】入力シート（こちらにご入力ください）'!$D$178="２無","②無","２無") -> １有 ２無 | L71: =IF('【施設用】入力シート（こちらにご入力ください）'!$D$179="○","①献立表の掲示・配布","１献立表の掲示・配布")&" "&IF('【施設用】入力シート（こちらにご入力ください）'!$D$180="○","②ポスターの掲示","２ポスターの掲示")&" "&IF('【施設用】入力シート（こちらにご入力ください）'!$D$181="○","③リーフレットの配布","３リーフレットの配布")&" "&IF('【施設用】入力シート（こちらにご入力ください）'!$D$182="○","④実物展示","４実物展示")&CHAR(10)&IF('【施設用】入力シート（こちらにご入力ください）'!$D$183="○","⑤食卓(卓上)メモ","５食卓(卓上)メモ")&" "&IF('【施設用】入力シート（こちらにご入力ください）'!$D$184="○","⑥その他","６その他")&"("&IF('【施設用】入力シート（こちらにご入力ください）'!$D$185=""," ",'【施設用】入力シート（こちらにご入力ください）'!$D$185)&")" -> １献立表の掲示・配布 ２ポスターの掲示 ３リーフレットの配布 ４実物展示 ５食卓(卓上)メモ ６その他( )
A73: ㉓栄養指導 | H73: 入所者 | P73: 通所者 | X73: その他（家族等）
A74: =IF('【施設用】入力シート（こちらにご入力ください）'!$D$187="１有","①有","１有")&" "&IF('【施設用】入力シート（こちらにご入力ください）'!$D$187="２無","②無","２無") -> １有 ２無 | E74: 個別指導 | H74: ="延 "&IF('【施設用】入力シート（こちらにご入力ください）'!$D$188=""," ",'【施設用】入力シート（こちらにご入力ください）'!$D$188)&" 人" -> 延 人 | P74: ="延 "&IF('【施設用】入力シート（こちらにご入力ください）'!$D$189=""," ",'【施設用】入力シート（こちらにご入力ください）'!$D$189)&" 人" -> 延 人 | X74: ="延 "&IF('【施設用】入力シート（こちらにご入力ください）'!$D$190=""," ",'【施設用】入力シート（こちらにご入力ください）'!$D$190)&" 人" -> 延 人
E75: 集団指導 | H75: =IF('【施設用】入力シート（こちらにご入力ください）'!$D$191=""," ",'【施設用】入力シート（こちらにご入力ください）'!$D$191)&"回 "&IF('【施設用】入力シート（こちらにご入力ください）'!$D$192=""," ",'【施設用】入力シート（こちらにご入力ください）'!$D$192)&"人" -> 回 人 | P75: =IF('【施設用】入力シート（こちらにご入力ください）'!$D$193=""," ",'【施設用】入力シート（こちらにご入力ください）'!$D$193)&"回 "&IF('【施設用】入力シート（こちらにご入力ください）'!$D$194=""," ",'【施設用】入力シート（こちらにご入力ください）'!$D$194)&"人" -> 回 人 | X75: =IF('【施設用】入力シート（こちらにご入力ください）'!$D$195=""," ",'【施設用】入力シート（こちらにご入力ください）'!$D$195)&"回 "&IF('【施設用】入力シート（こちらにご入力ください）'!$D$196=""," ",'【施設用】入力シート（こちらにご入力ください）'!$D$196)&"人" -> 回 人
A77: ㉔非常時危機管理対策 | H77: 事故(食中毒等)時対策マニュアル | P77: =IF('【施設用】入力シート（こちらにご入力ください）'!$D$198="１有","①有","１有")&" "&IF('【施設用】入力シート（こちらにご入力ください）'!$D$198="２無","②無","２無") -> １有 ２無 | U77: 非常災害時対策マニュアル | AB77: =IF('【施設用】入力シート（こちらにご入力ください）'!$D$199="１有","①有","１有")&" "&IF('【施設用】入力シート（こちらにご入力ください）'!$D$199="２無","②無","２無") -> １有 ２無
A78: 備蓄食品 | H78: =IF('【施設用】入力シート（こちらにご入力ください）'!$D$200="１有","①有","１有")&" "&IF('【施設用】入力シート（こちらにご入力ください）'!$D$200="２無","②無","２無") -> １有 ２無 | L78: ="水("&IF('【施設用】入力シート（こちらにご入力ください）'!$D$201=""," ",'【施設用】入力シート（こちらにご入力ください）'!$D$201)&")ℓ("&IF('【施設用】入力シート（こちらにご入力ください）'!$D$202=""," ",'【施設用】入力シート（こちらにご入力ください）'!$D$202)&")日分 食品("&IF('【施設用】入力シート（こちらにご入力ください）'!$D$203=""," ",'【施設用】入力シート（こちらにご入力ください）'!$D$203)&")人分を("&IF('【施設用】入力シート（こちらにご入力ください）'!$D$204=""," ",'【施設用】入力シート（こちらにご入力ください）'!$D$204)&")日分" -> 水( )ℓ( )日分 食品( )人分を( )日分
A79: 保管場所 | H79: =IF('【施設用】入力シート（こちらにご入力ください）'!$D$205="１有","①有","１有")&" "&IF('【施設用】入力シート（こちらにご入力ください）'!$D$205="２無","②無","２無") -> １有 ２無 | L79: =IF('【施設用】入力シート（こちらにご入力ください）'!$D$206="○","①厨房内","１厨房内")&" "&IF('【施設用】入力シート（こちらにご入力ください）'!$D$207="○","②防災保管庫","２防災保管庫")&" "&IF('【施設用】入力シート（こちらにご入力ください）'!$D$208="○","③その他","３その他")&"("&IF('【施設用】入力シート（こちらにご入力ください）'!$D$209=""," ",'【施設用】入力シート（こちらにご入力ください）'!$D$209)&")" -> １厨房内 ２防災保管庫 ３その他( )
A80: 非常時用献立 | H80: =IF('【施設用】入力シート（こちらにご入力ください）'!$D$210="１有","①有","１有")&" "&IF('【施設用】入力シート（こちらにご入力ください）'!$D$210="２無","②無","２無") -> １有 ２無
A82: ㉕施設の自己評価・ 課題及び改善策 | H82: =IF('【施設用】入力シート（こちらにご入力ください）'!$D$212="","",'【施設用】入力シート（こちらにご入力ください）'!$D$212)
A84: ㉖報告書作成者 | H84: ="所属名 "&IF('【施設用】入力シート（こちらにご入力ください）'!$D$213=""," ",'【施設用】入力シート（こちらにご入力ください）'!$D$213) -> 所属名 | Q84: ="職名・氏名 "&IF('【施設用】入力シート（こちらにご入力ください）'!$D$214=""," ",'【施設用】入力シート（こちらにご入力ください）'!$D$214) -> 職名・氏名 | Z84: ="TEL "&IF('【施設用】入力シート（こちらにご入力ください）'!$D$215=""," ",'【施設用】入力シート（こちらにご入力ください）'!$D$215) -> TEL

Sheet 【保健所用】データシート（入力不要）
A1: 集計用データ（１行＝１施設） ※別紙８（栄養管理状況一覧表）と同一の項目・並び順です。
A2: ・「【施設用】入力シート」で入力された内容が、別紙8貼付用の1行データとして本シートに自動反映されます。
A3: ・９行目のＢ列～ＥＤ列をコピーし、別紙８の該当行のＢ列に「値の貼り付け」をしてください（Ａ列は台帳の施設番号＝入力シートＩ１の保健所記入欄）。
A4: ・緑色の欄（施設種別、個別巡回指導回数、集団指導回数）は保健所で入力してください。
A5: ・特定・その他、施設区分は、介護老人保健施設・介護医療院は入所者・短期入所者の定員、それ以外は食数から自動判定します（指定施設の場合は施設区分を「1」に修正）。
B7: 栄養管理状況一覧表（令和８年度栄養管理報告書より） | AZ7: 給与栄養目標量 | BN7: ★ | BO7: 給与栄養量 | CC7: ★ | CD7: ★ | CE7: ★ | CF7: ★ | DL7: * | ED7: ★
A8: 台帳の施設番号 | B8: 施設名 | C8: 住所 | D8: 特定・その他 | E8: 施設区分 | F8: 施設種別 | G8: 運営方式 | H8: 委託契約書の整備 | I8: 理念・方針・目標等 | J8: 組織図 | K8: 健康づくり機能＊ | L8: 健康管理部門との連携＊ | M8: 栄養管理委員会 | N8: 研修会 | O8: 食数・朝 | P8: 食数・昼 | Q8: 食数・夕 | R8: 食数・その他 | S8: 食数・計 | T8: 給食形態等＊ | U8: 給食形態・量＊ | V8: 給食形態・補食＊ | W8: 給食形態・アレルギー＊ | X8: 給食形態・特別＊ | Y8: 給食形態・食堂＊ | Z8: 施設常勤・管栄 | AA8: 施設常勤・栄養士 | AB8: 施設常勤・調理師 | AC8: 受託常勤・管栄 | AD8: 受託常勤・栄養士 | AE8: 受託常勤・調理師 | AF8: 合計常勤管栄 | AG8: 合計常勤栄養士 | AH8: 合計常勤調理師 | AI8: 管栄・栄養士の有無 | AJ8: 対象者の把握＊ | AK8: 対象者数・男性 | AL8: 対象者数・女性 | AM8: 対象者数・男女計 | AN8: 肥満人数 | AO8: やせ人数 | AP8: 肥満割合/自動計算 | AQ8: やせ割合/自動計算 | AR8: 肥満やせ割合/自動計算 | AS8: 対象者・身長 | AT8: 対象者・体重 | AU8: 対象者・肥満度＊ | AV8: 対象者・疾病＊ | AW8: 対象者・アレルギー＊ | AX8: 給与栄養目標量 | AY8: 給与栄養量 | AZ8: エネルギー | BA8: たんぱく質 | BB8: 脂質 | BC8: カルシウム | BD8: 鉄 | BE8: ビタミンA | BF8: ビタミンB１ | BG8: ビタミンB２ | BH8: ビタミンC | BI8: 食物繊維 | BJ8: 食塩相当量 | BK8: 炭水化物％ | BL8: 脂質％ | BM8: たんぱく質％ | BN8: 野菜摂取量 | BO8: エネルギー | BP8: たんぱく質 | BQ8: 脂質 | BR8: カルシウム | BS8: 鉄 | BT8: ビタミンA | BU8: ビタミンB１ | BV8: ビタミンB２ | BW8: ビタミンC | BX8: 食物繊維 | BY8: 食塩相当量 | BZ8: 炭水化物％ | CA8: 脂質％ | CB8: たんぱく質％ | CC8: 野菜摂取量 | CD8: 基準年の野菜摂取量 | CE8: 基準年との比較 | CF8: 野菜量（当たり） | CG8: 食材費（当たり） | CH8: 食材費（金額）① | CI8: 食材費（金額）② | CJ8: 食材費（金額）③ | CK8: 給与栄養目標量設定年月 | CL8: 設定根拠 | CM8: 食事内容・朝食 | CN8: 食事内容・昼食 | CO8: 食事内容・夕食 | CP8: 食事内容・おやつ | CQ8: 食事内容・その他 | CR8: 献立作成者・管栄 | CS8: 献立作成者・栄養士 | CT8: 献立作成者・調理 | CU8: 献立作成者・その他 | CV8: 事後評価 | CW8: 課題及び改善策 | CX8: 喫食量の把握 | CY8: 嗜好調査の実施 | CZ8: 給食日誌 | DA8: 検食簿 | DB8: 作業指示 | DC8: 栄養成分表示・有無 | DD8: 栄養表示・エネルギー | DE8: 栄養表示・たんぱく質 | DF8: 栄養表示・脂質 | DG8: 栄養表示・炭水化物 | DH8: 栄養表示・食塩相当量 | DI8: 栄養表示・その他 | DJ8: テーマ献立＊ | DK8: 情報提供の有無 | DL8: 情報・献立 | DM8: 情報・ポスター | DN8: 情報・リーフレット | DO8: 情報・実物 | DP8: 情報・給食たより | DQ8: 情報・食卓メモ | DR8: 情報・その他 | DS8: 栄養指導 | DT8: 食中毒マニュアル | DU8: 災害時マニュアル | DV8: 非常時・食糧等 | DW8: 保管場所の有無 | DX8: 非常時・保管場所(1) | DY8: 非常時・保管場所(2) | DZ8: 非常時・保管場所(3) | EA8: 非常時・献立 | EB8: 個別巡回指導回数 | EC8: 集団指導回数 | ED8: 指導実施
A9: =IF('【施設用】入力シート（こちらにご入力ください）'!$I$1="","",'【施設用】入力シート（こちらにご入力ください）'!$I$1) | B9: =IF('【施設用】入力シート（こちらにご入力ください）'!$D$12="","",'【施設用】入力シート（こちらにご入力ください）'!$D$12) | C9: =IF('【施設用】入力シート（こちらにご入力ください）'!$D$14="","",'【施設用】入力シート（こちらにご入力ください）'!$D$14) | D9: =IF(AND(OR('【施設用】入力シート（こちらにご入力ください）'!$D$23="１介護老人保健施設",'【施設用】入力シート（こちらにご入力ください）'!$D$23="２介護医療院"),COUNT('【施設用】入力シート（こちらにご入力ください）'!$D$68:$D$69)>0),IF(SUM('【施設用】入力シート（こちらにご入力ください）'!$D$68:$D$69)>=100,1,IF(SUM('【施設用】入力シート（こちらにご入力ください）'!$D$68:$D$69)>=20,2,"")),IF(S9="","",IF(OR(MAX(O9:Q9)>=100,S9>=250),1,IF(OR(MAX(O9:Q9)>=20,S9>=50),2,"")))) | E9: =IF(AND(OR('【施設用】入力シート（こちらにご入力ください）'!$D$23="１介護老人保健施設",'【施設用】入力シート（こちらにご入力ください）'!$D$23="２介護医療院"),COUNT('【施設用】入力シート（こちらにご入力ください）'!$D$68:$D$69)>0),IF(SUM('【施設用】入力シート（こちらにご入力ください）'!$D$68:$D$69)>=300,2,IF(SUM('【施設用】入力シート（こちらにご入力ください）'!$D$68:$D$69)>=100,3,4)),IF(S9="","",IF(OR(MAX(O9:Q9)>=300,S9>=750),2,IF(OR(MAX(O9:Q9)>=100,S9>=250),3,4)))) | G9: =IF('【施設用】入力シート（こちらにご入力ください）'!$D$28="１直営",1,IF('【施設用】入力シート（こちらにご入力ください）'!$D$28="２委託",2,"*")) -> * | H9: =IF('【施設用】入力シート（こちらにご入力ください）'!$D$28="１直営","-",IF('【施設用】入力シート（こちらにご入力ください）'!$D$30="１有",1,IF('【施設用】入力シート（こちらにご入力ください）'!$D$30="２無",2,"*"))) -> * | I9: =IF('【施設用】入力シート（こちらにご入力ください）'!$D$43="１有",1,IF('【施設用】入力シート（こちらにご入力ください）'!$D$43="２無",2,"*")) -> * | J9: =IF('【施設用】入力シート（こちらにご入力ください）'!$D$44="１有",1,IF('【施設用】入力シート（こちらにご入力ください）'!$D$44="２無",2,"*")) -> * | K9: - | L9: - | M9: =IF('【施設用】入力シート（こちらにご入力ください）'!$D$46="１有",1,IF('【施設用】入力シート（こちらにご入力ください）'!$D$46="２無",2,"*")) -> * | N9: =IF('【施設用】入力シート（こちらにご入力ください）'!$D$63="１有",1,IF('【施設用】入力シート（こちらにご入力ください）'!$D$63="２無",2,"*")) -> * | O9: =IF(COUNT('【施設用】入力シート（こちらにご入力ください）'!$E$68:$H$73)=0,"",SUM('【施設用】入力シート（こちらにご入力ください）'!$E$68:$E$73)) | P9: =IF(COUNT('【施設用】入力シート（こちらにご入力ください）'!$E$68:$H$73)=0,"",SUM('【施設用】入力シート（こちらにご入力ください）'!$F$68:$F$73)) | Q9: =IF(COUNT('【施設用】入力シート（こちらにご入力ください）'!$E$68:$H$73)=0,"",SUM('【施設用】入力シート（こちらにご入力ください）'!$G$68:$G$73)) | R9: =IF(COUNT('【施設用】入力シート（こちらにご入力ください）'!$E$68:$H$73)=0,"",SUM('【施設用】入力シート（こちらにご入力ください）'!$H$68:$H$73)) | S9: =IF(O9="","",SUM(O9:R9)) | T9: - | U9: - | V9: - | W9: - | X9: - | Y9: - | Z9: =IF('【施設用】入力シート（こちらにご入力ください）'!$D$86="",0,'【施設用】入力シート（こちらにご入力ください）'!$D$86) -> 0 | AA9: =IF('【施設用】入力シート（こちらにご入力ください）'!$D$87="",0,'【施設用】入力シート（こちらにご入力ください）'!$D$87) -> 0 | AB9: =IF('【施設用】入力シート（こちらにご入力ください）'!$D$88="",0,'【施設用】入力シート（こちらにご入力ください）'!$D$88) -> 0 | AC9: =IF('【施設用】入力シート（こちらにご入力ください）'!$F$86="",0,'【施設用】入力シート（こちらにご入力ください）'!$F$86) -> 0 | AD9: =IF('【施設用】入力シート（こちらにご入力ください）'!$F$87="",0,'【施設用】入力シート（こちらにご入力ください）'!$F$87) -> 0 | AE9: =IF('【施設用】入力シート（こちらにご入力ください）'!$F$88="",0,'【施設用】入力シート（こちらにご入力ください）'!$F$88) -> 0 | AF9: =SUM(Z9,AC9) -> 0 | AG9: =SUM(AA9,AD9) -> 0 | AH9: =SUM(AB9,AE9) -> 0 | AI9: =IF(COUNT('【施設用】入力シート（こちらにご入力ください）'!$D$86:$G$90)=0,"",IF(AND(N(AF9)>0,N(AG9)>0),2,IF(N(AF9)>0,1,IF(N(AG9)>0,3,4)))) | AJ9: =IF('【施設用】入力シート（こちらにご入力ください）'!$D$111="１有",1,IF('【施設用】入力シート（こちらにご入力ください）'!$D$111="２無",2,"*")) -> * | AK9: - | AL9: - | AM9: - | AN9: - | AO9: - | AP9: =IF(AM9="-","-",IF(AND(ISNUMBER(AM9),ISNUMBER(AN9)),IF(AM9>0,AN9/AM9*100,""),"")) -> - | AQ9: =IF(AM9="-","-",IF(AND(ISNUMBER(AM9),ISNUMBER(AO9)),IF(AM9>0,AO9/AM9*100,""),"")) -> - | AR9: =IF(AM9="-","-",IF(AND(ISNUMBER(AM9),ISNUMBER(AN9),ISNUMBER(AO9)),IF(AM9>0,(AN9+AO9)/AM9*100,""),"")) -> - | AS9: =IF('【施設用】入力シート（こちらにご入力ください）'!$D$120="１有",1,IF('【施設用】入力シート（こちらにご入力ください）'!$D$120="２無",2,"*")) -> * | AT9: =IF('【施設用】入力シート（こちらにご入力ください）'!$D$121="１有",1,IF('【施設用】入力シート（こちらにご入力ください）'!$D$121="２無",2,"*")) -> * | AU9: =IF('【施設用】入力シート（こちらにご入力ください）'!$D$122="１有",1,IF('【施設用】入力シート（こちらにご入力ください）'!$D$122="２無",2,"*")) -> * | AV9: =IF('【施設用】入力シート（こちらにご入力ください）'!$D$123="１有",1,IF('【施設用】入力シート（こちらにご入力ください）'!$D$123="２無",2,"*")) -> * | AW9: - | AX9: =IF(COUNT('【施設用】入力シート（こちらにご入力ください）'!$D$143:$Q$143)>0,1,"*") -> * | AY9: =IF(COUNT('【施設用】入力シート（こちらにご入力ください）'!$D$144:$Q$144)>0,1,"*") -> * | AZ9: =IF('【施設用】入力シート（こちらにご入力ください）'!$D$143="","*",'【施設用】入力シート（こちらにご入力ください）'!$D$143) -> * | BA9: =IF('【施設用】入力シート（こちらにご入力ください）'!$E$143="","*",'【施設用】入力シート（こちらにご入力ください）'!$E$143) -> * | BB9: =IF('【施設用】入力シート（こちらにご入力ください）'!$F$143="","*",'【施設用】入力シート（こちらにご入力ください）'!$F$143) -> * | BC9: =IF('【施設用】入力シート（こちらにご入力ください）'!$G$143="","*",'【施設用】入力シート（こちらにご入力ください）'!$G$143) -> * | BD9: =IF('【施設用】入力シート（こちらにご入力ください）'!$H$143="","*",'【施設用】入力シート（こちらにご入力ください）'!$H$143) -> * | BE9: =IF('【施設用】入力シート（こちらにご入力ください）'!$I$143="","*",'【施設用】入力シート（こちらにご入力ください）'!$I$143) -> * | BF9: =IF('【施設用】入力シート（こちらにご入力ください）'!$J$143="","*",'【施設用】入力シート（こちらにご入力ください）'!$J$143) -> * | BG9: =IF('【施設用】入力シート（こちらにご入力ください）'!$K$143="","*",'【施設用】入力シート（こちらにご入力ください）'!$K$143) -> * | BH9: =IF('【施設用】入力シート（こちらにご入力ください）'!$L$143="","*",'【施設用】入力シート（こちらにご入力ください）'!$L$143) -> * | BI9: =IF('【施設用】入力シート（こちらにご入力ください）'!$M$143="","*",'【施設用】入力シート（こちらにご入力ください）'!$M$143) -> * | BJ9: =IF('【施設用】入力シート（こちらにご入力ください）'!$N$143="","*",'【施設用】入力シート（こちらにご入力ください）'!$N$143) -> * | BK9: =IF('【施設用】入力シート（こちらにご入力ください）'!$O$143="","*",'【施設用】入力シート（こちらにご入力ください）'!$O$143) -> * | BL9: =IF('【施設用】入力シート（こちらにご入力ください）'!$P$143="","*",'【施設用】入力シート（こちらにご入力ください）'!$P$143) -> * | BM9: =IF('【施設用】入力シート（こちらにご入力ください）'!$Q$143="","*",'【施設用】入力シート（こちらにご入力ください）'!$Q$143) -> * | BN9: - | BO9: =IF('【施設用】入力シート（こちらにご入力ください）'!$D$144="","*",'【施設用】入力シート（こちらにご入力ください）'!$D$144) -> * | BP9: =IF('【施設用】入力シート（こちらにご入力ください）'!$E$144="","*",'【施設用】入力シート（こちらにご入力ください）'!$E$144) -> * | BQ9: =IF('【施設用】入力シート（こちらにご入力ください）'!$F$144="","*",'【施設用】入力シート（こちらにご入力ください）'!$F$144) -> * | BR9: =IF('【施設用】入力シート（こちらにご入力ください）'!$G$144="","*",'【施設用】入力シート（こちらにご入力ください）'!$G$144) -> * | BS9: =IF('【施設用】入力シート（こちらにご入力ください）'!$H$144="","*",'【施設用】入力シート（こちらにご入力ください）'!$H$144) -> * | BT9: =IF('【施設用】入力シート（こちらにご入力ください）'!$I$144="","*",'【施設用】入力シート（こちらにご入力ください）'!$I$144) -> * | BU9: =IF('【施設用】入力シート（こちらにご入力ください）'!$J$144="","*",'【施設用】入力シート（こちらにご入力ください）'!$J$144) -> * | BV9: =IF('【施設用】入力シート（こちらにご入力ください）'!$K$144="","*",'【施設用】入力シート（こちらにご入力ください）'!$K$144) -> * | BW9: =IF('【施設用】入力シート（こちらにご入力ください）'!$L$144="","*",'【施設用】入力シート（こちらにご入力ください）'!$L$144) -> * | BX9: =IF('【施設用】入力シート（こちらにご入力ください）'!$M$144="","*",'【施設用】入力シート（こちらにご入力ください）'!$M$144) -> * | BY9: =IF('【施設用】入力シート（こちらにご入力ください）'!$N$144="","*",'【施設用】入力シート（こちらにご入力ください）'!$N$144) -> * | BZ9: =IF('【施設用】入力シート（こちらにご入力ください）'!$O$144="","*",'【施設用】入力シート（こちらにご入力ください）'!$O$144) -> * | CA9: =IF('【施設用】入力シート（こちらにご入力ください）'!$P$144="","*",'【施設用】入力シート（こちらにご入力ください）'!$P$144) -> * | CB9: =IF('【施設用】入力シート（こちらにご入力ください）'!$Q$144="","*",'【施設用】入力シート（こちらにご入力ください）'!$Q$144) -> * | CC9: - | CD9: - | CE9: - | CF9: - | CG9: =IF('【施設用】入力シート（こちらにご入力ください）'!$D$159="","*",1) -> * | CH9: =IF('【施設用】入力シート（こちらにご入力ください）'!$D$159="","*",'【施設用】入力シート（こちらにご入力ください）'!$D$159) -> * | CI9: - | CJ9: - | CK9: =IF(OR('【施設用】入力シート（こちらにご入力ください）'!$D$133<>"",'【施設用】入力シート（こちらにご入力ください）'!$D$134<>""),1,"*") -> * | CL9: =IF('【施設用】入力シート（こちらにご入力ください）'!$D$135<>"",1,"*") -> * | CM9: =IF('【施設用】入力シート（こちらにご入力ください）'!$D$136="○",1,IF('【施設用】入力シート（こちらにご入力ください）'!$D$136="－",2,"*")) -> * | CN9: =IF('【施設用】入力シート（こちらにご入力ください）'!$D$137="○",1,IF('【施設用】入力シート（こちらにご入力ください）'!$D$137="－",2,"*")) -> * | CO9: =IF('【施設用】入力シート（こちらにご入力ください）'!$D$138="○",1,IF('【施設用】入力シート（こちらにご入力ください）'!$D$138="－",2,"*")) -> * | CP9: =IF('【施設用】入力シート（こちらにご入力ください）'!$D$139="○",1,IF('【施設用】入力シート（こちらにご入力ください）'!$D$139="－",2,"*")) -> * | CQ9: =IF('【施設用】入力シート（こちらにご入力ください）'!$D$140="○",1,IF('【施設用】入力シート（こちらにご入力ください）'!$D$140="－",2,"*")) -> * | CR9: =IF('【施設用】入力シート（こちらにご入力ください）'!$D$146="○",1,IF('【施設用】入力シート（こちらにご入力ください）'!$D$146="－",2,"*")) -> * | CS9: =IF('【施設用】入力シート（こちらにご入力ください）'!$D$147="○",1,IF('【施設用】入力シート（こちらにご入力ください）'!$D$147="－",2,"*")) -> * | CT9: =IF('【施設用】入力シート（こちらにご入力ください）'!$D$148="○",1,IF('【施設用】入力シート（こちらにご入力ください）'!$D$148="－",2,"*")) -> * | CU9: =IF('【施設用】入力シート（こちらにご入力ください）'!$D$149="○",1,IF('【施設用】入力シート（こちらにご入力ください）'!$D$149="－",2,"*")) -> * | CV9: =IF('【施設用】入力シート（こちらにご入力ください）'!$D$152="１実施している",1,IF('【施設用】入力シート（こちらにご入力ください）'!$D$152="２実施していない",2,"*")) -> * | CW9: =IF('【施設用】入力シート（こちらにご入力ください）'!$D$154="１有",1,IF('【施設用】入力シート（こちらにご入力ください）'!$D$154="２無",2,"*")) -> * | CX9: =IF('【施設用】入力シート（こちらにご入力ください）'!$D$156="１有",1,IF('【施設用】入力シート（こちらにご入力ください）'!$D$156="２無",2,"*")) -> * | CY9: =IF('【施設用】入力シート（こちらにご入力ください）'!$D$157="１有",1,IF('【施設用】入力シート（こちらにご入力ください）'!$D$157="２無",2,"*")) -> * | CZ9: =IF('【施設用】入力シート（こちらにご入力ください）'!$D$160="１有",1,IF('【施設用】入力シート（こちらにご入力ください）'!$D$160="２無",2,"*")) -> * | DA9: =IF('【施設用】入力シート（こちらにご入力ください）'!$D$161="１有",1,IF('【施設用】入力シート（こちらにご入力ください）'!$D$161="２無",2,"*")) -> * | DB9: =IF('【施設用】入力シート（こちらにご入力ください）'!$D$163="１有",1,IF('【施設用】入力シート（こちらにご入力ください）'!$D$163="２無",2,"*")) -> * | DC9: =IF('【施設用】入力シート（こちらにご入力ください）'!$D$165="１有",1,IF('【施設用】入力シート（こちらにご入力ください）'!$D$165="２無",2,"*")) -> * | DD9: =IF($DC9<>1,"*",IF('【施設用】入力シート（こちらにご入力ください）'!$D$166="○",1,IF('【施設用】入力シート（こちらにご入力ください）'!$D$166="－",2,"*"))) -> * | DE9: =IF($DC9<>1,"*",IF('【施設用】入力シート（こちらにご入力ください）'!$D$167="○",1,IF('【施設用】入力シート（こちらにご入力ください）'!$D$167="－",2,"*"))) -> * | DF9: =IF($DC9<>1,"*",IF('【施設用】入力シート（こちらにご入力ください）'!$D$168="○",1,IF('【施設用】入力シート（こちらにご入力ください）'!$D$168="－",2,"*"))) -> * | DG9: =IF($DC9<>1,"*",IF('【施設用】入力シート（こちらにご入力ください）'!$D$169="○",1,IF('【施設用】入力シート（こちらにご入力ください）'!$D$169="－",2,"*"))) -> * | DH9: =IF($DC9<>1,"*",IF('【施設用】入力シート（こちらにご入力ください）'!$D$170="○",1,IF('【施設用】入力シート（こちらにご入力ください）'!$D$170="－",2,"*"))) -> * | DI9: =IF($DC9<>1,"*",IF('【施設用】入力シート（こちらにご入力ください）'!$D$171="○",1,IF('【施設用】入力シート（こちらにご入力ください）'!$D$171="－",2,"*"))) -> * | DJ9: =IF('【施設用】入力シート（こちらにご入力ください）'!$D$173="１有",1,IF('【施設用】入力シート（こちらにご入力ください）'!$D$173="２無",2,"*")) -> * | DK9: =IF('【施設用】入力シート（こちらにご入力ください）'!$D$178="１有",1,IF('【施設用】入力シート（こちらにご入力ください）'!$D$178="２無",2,"*")) -> * | DL9: =IF($DK9<>1,"*",IF('【施設用】入力シート（こちらにご入力ください）'!$D$179="○",1,IF('【施設用】入力シート（こちらにご入力ください）'!$D$179="－",2,"*"))) -> * | DM9: =IF($DK9<>1,"*",IF('【施設用】入力シート（こちらにご入力ください）'!$D$180="○",1,IF('【施設用】入力シート（こちらにご入力ください）'!$D$180="－",2,"*"))) -> * | DN9: =IF($DK9<>1,"*",IF('【施設用】入力シート（こちらにご入力ください）'!$D$181="○",1,IF('【施設用】入力シート（こちらにご入力ください）'!$D$181="－",2,"*"))) -> * | DO9: =IF($DK9<>1,"*",IF('【施設用】入力シート（こちらにご入力ください）'!$D$182="○",1,IF('【施設用】入力シート（こちらにご入力ください）'!$D$182="－",2,"*"))) -> * | DP9: - | DQ9: =IF($DK9<>1,"*",IF('【施設用】入力シート（こちらにご入力ください）'!$D$183="○",1,IF('【施設用】入力シート（こちらにご入力ください）'!$D$183="－",2,"*"))) -> * | DR9: =IF($DK9<>1,"*",IF('【施設用】入力シート（こちらにご入力ください）'!$D$184="○",1,IF('【施設用】入力シート（こちらにご入力ください）'!$D$184="－",2,"*"))) -> * | DS9: =IF('【施設用】入力シート（こちらにご入力ください）'!$D$187="１有",1,IF('【施設用】入力シート（こちらにご入力ください）'!$D$187="２無",2,"*")) -> * | DT9: =IF('【施設用】入力シート（こちらにご入力ください）'!$D$198="１有",1,IF('【施設用】入力シート（こちらにご入力ください）'!$D$198="２無",2,"*")) -> * | DU9: =IF('【施設用】入力シート（こちらにご入力ください）'!$D$199="１有",1,IF('【施設用】入力シート（こちらにご入力ください）'!$D$199="２無",2,"*")) -> * | DV9: =IF('【施設用】入力シート（こちらにご入力ください）'!$D$200="１有",1,IF('【施設用】入力シート（こちらにご入力ください）'!$D$200="２無",2,"*")) -> * | DW9: =IF('【施設用】入力シート（こちらにご入力ください）'!$D$205="１有",1,IF('【施設用】入力シート（こちらにご入力ください）'!$D$205="２無",2,"*")) -> * | DX9: =IF($DW9<>1,"*",IF('【施設用】入力シート（こちらにご入力ください）'!$D$206="○",1,IF('【施設用】入力シート（こちらにご入力ください）'!$D$206="－",2,"*"))) -> * | DY9: =IF($DW9<>1,"*",IF('【施設用】入力シート（こちらにご入力ください）'!$D$207="○",1,IF('【施設用】入力シート（こちらにご入力ください）'!$D$207="－",2,"*"))) -> * | DZ9: =IF($DW9<>1,"*",IF('【施設用】入力シート（こちらにご入力ください）'!$D$208="○",1,IF('【施設用】入力シート（こちらにご入力ください）'!$D$208="－",2,"*"))) -> * | EA9: =IF('【施設用】入力シート（こちらにご入力ください）'!$D$210="１有",1,IF('【施設用】入力シート（こちらにご入力ください）'!$D$210="２無",2,"*")) -> * | ED9: =IF(OR(N(EB9)>0,N(EC9)>0),"1","")

Sheet 選択肢
A1: １介護老人保健施設 | B1: １栄養部 | C1: １直営 | D1: 全面 | E1: １有 | F1: 週 | G1: １管理栄養士 | H1: １実施している | I1: 毎月 | J1: ○ | K1: 岐阜保健所 | L1: 管理栄養士
A2: ２介護医療院 | B2: ２診療部 | C2: ２委託 | D2: 一部 | E2: ２無 | F2: 月 | G2: ２栄養士 | H2: ２実施していない | I2: 報告月のみ | J2: － | K2: 西濃保健所 | L2: 栄養士
A3: ３老人福祉施設 | B3: ３事務部 | F3: 年 | G3: ３調理師(員) | K3: 関保健所
A4: ４社会福祉施設 | B4: ４その他 | G4: ４その他 | K4: 可茂保健所
K5: 東濃保健所
K6: 恵那保健所
K7: 飛騨保健所
