Workbook

Sheet 【施設用】入力シート（こちらにご入力ください）
A1: 栄養管理報告書（学校用） 第４号様式 入力シート | F1: 台帳の施設番号（保健所記入欄）▶ | L1: 入力年度 | M1: 2026 | S1: =SUM($S$8:$S$197) -> 143
A2: 【使い方】ピンク色・黄色のセルに入力してください（前の回答により入力不要になった欄は濃い灰色に変わります）。該当がない数値欄は「０」を入力してください。 | S2: =IFERROR(MATCH(TRUE,INDEX($S$8:$S$197>0,0),0)+7,0) -> 8
A3: 右端の「入力方法・選択肢」欄に「▼」がある項目はプルダウンから選択します（選択肢以外は入力できません）。複数選択の項目は、該当するものに「○」、該当しないものに「－」を選んでください。 | S3: =IF($S$2=0,"",IF(INDEX($A:$A,$S$2)="","（"&$S$2&"行目）",INDEX($A:$A,$S$2))) -> ★必ず選択 食数が１回２０食未満かつ１日５０食未満の施設
A4: 入力内容は「【施設・保健所用】印刷シート」に自動反映されますので、提出前に印刷等により内容をご確認ください。
A5: 凡例：黄色＝入力欄 ／ 濃い灰色＝前の回答により入力不要 ／ 緑色＝保健所記入欄（施設は入力不要） ※郵便番号・電話番号・FAX・メールアドレス・数値は半角で入力してください。 ※ピンク色＝入力が必要な未入力欄（７行目の「未入力チェック」に件数が表示されます）
A6: 項目 | D6: 入力値 | G6: 記入例 | J6: 入力方法・選択肢 | S6: 未入力チェック用（表示しなくても構いません）
A7: ■未入力チェック | D7: =IF($S$1=0,"✔ 未入力の項目はありません","⚠ 未入力の項目が "&$S$1&" 件あります（最初：「"&$S$3&"」） ピンク色のセルを入力してください") -> ⚠ 未入力の項目が 143 件あります（最初：「★必ず選択 食数が１回２０食未満かつ１日５０食未満の施設」） ピンク色のセルを入力してください
A8: ★必ず選択 食数が１回２０食未満かつ１日５０食未満の施設 | G8: =IF(D8="","◀ 必ず「該当する」か「該当しない」を選択してください（選択により入力が必要な項目が変わります）",IF(D8="該当する","「該当する」のため、①②⑧⑩㉓以外の項目は入力不要（灰色）です","「該当しない」のため、すべての項目を入力してください")) -> ◀ 必ず「該当する」か「該当しない」を選択してください（選択により入力が必要な項目が変わります） | S8: =COUNTBLANK(D8) -> 1
A9: ＜表紙＞
A10: 報告日 | G10: 2026/12/1 | J10: 日付を入力（例：2026/12/1）※11月1日より前の日付は入力できません | S10: =COUNTBLANK(D10) -> 1
A11: 提出先保健所名 | G11: 岐阜保健所 | J11: ▼選択：提出先の保健所 | S11: =COUNTBLANK(D11) -> 1
A12: 施設の名称 | G12: 岐阜県立岐阜小学校 | S12: =COUNTBLANK(D12) -> 1
A13: 施設の所在地（郵便番号） | G13: 500-8384 | J13: 半角で入力（例：500-8384） | S13: =COUNTBLANK(D13) -> 1
A14: 施設の所在地 | G14: 岐阜市薮田南２-１-１ | S14: =COUNTBLANK(D14) -> 1
A15: 施設設置者（職名・氏名） | G15: 岐阜県知事 岐阜 太郎 | S15: =COUNTBLANK(D15) -> 1
A16: 施設管理者（職名・氏名） | G16: 学校長 岐阜 花子 | S16: =COUNTBLANK(D16) -> 1
A17: 栄養管理部門名 | G17: 給食室 | S17: =COUNTBLANK(D17) -> 1
A18: 栄養管理責任者（職名・氏名） | G18: 栄養教諭 美濃 一郎 | S18: =COUNTBLANK(D18) -> 1
A19: ＴＥＬ | G19: 058-272-1111 | J19: 半角で入力（例：058-272-1111） | S19: =COUNTBLANK(D19) -> 1
A20: ＦＡＸ | G20: 058-272-2222 | J20: 半角で入力（例：058-272-2222） | S20: =COUNTBLANK(D20) -> 1
A21: 代表Ｅ-mail | G21: kyushoku@example.lg.jp | J21: 半角英数字で入力（例：kyushoku@example.lg.jp） | S21: =COUNTBLANK(D21) -> 1
A22: ①対象校
A23: 小学校（校数） | G23: 1 | J23: 半角数字（整数） | S23: =COUNTBLANK(D23) -> 1
A24: 中学校（校数） | J24: 半角数字（整数） | S24: =COUNTBLANK(D24) -> 1
A25: 高等学校（校数） | J25: 半角数字（整数） | S25: =COUNTBLANK(D25) -> 1
A26: 特別支援学校（校数） | J26: 半角数字（整数） | S26: =COUNTBLANK(D26) -> 1
A27: その他（名称） | G27: （例）義務教育学校
A28: その他（校数） | J28: 半角数字（整数）
A29: ②給食の運営方式
A30: 運営方式 | G30: １直営 | J30: ▼選択：１直営／２委託 | S30: =COUNTBLANK(D30) -> 1
A31: 委託の区分 | J31: ▼選択：全面／一部 | S31: =IF($D$30="１直営",0,COUNTBLANK(D31)) -> 1
A32: 委託契約書類の整備 | J32: ▼選択：１有／２無 | S32: =IF($D$30="１直営",0,COUNTBLANK(D32)) -> 1
A33: 委託先名称 | S33: =IF($D$30="１直営",0,COUNTBLANK(D33)) -> 1
A34: 委託先所在地 | S34: =IF($D$30="１直営",0,COUNTBLANK(D34)) -> 1
A35: 委託内容：１献立作成 | G35: － | J35: ▼選択：○（該当する）／－（該当しない） | S35: =IF($D$30="１直営",0,COUNTBLANK(D35)) -> 1
A36: 委託内容：２材料購入 | G36: － | J36: ▼選択：○（該当する）／－（該当しない） | S36: =IF($D$30="１直営",0,COUNTBLANK(D36)) -> 1
A37: 委託内容：３調理 | G37: － | J37: ▼選択：○（該当する）／－（該当しない） | S37: =IF($D$30="１直営",0,COUNTBLANK(D37)) -> 1
A38: 委託内容：４配膳 | G38: － | J38: ▼選択：○（該当する）／－（該当しない） | S38: =IF($D$30="１直営",0,COUNTBLANK(D38)) -> 1
A39: 委託内容：５下膳 | G39: － | J39: ▼選択：○（該当する）／－（該当しない） | S39: =IF($D$30="１直営",0,COUNTBLANK(D39)) -> 1
A40: 委託内容：６食器洗浄 | G40: － | J40: ▼選択：○（該当する）／－（該当しない） | S40: =IF($D$30="１直営",0,COUNTBLANK(D40)) -> 1
A41: 委託内容：７施設外調理 | G41: － | J41: ▼選択：○（該当する）／－（該当しない） | S41: =IF($D$30="１直営",0,COUNTBLANK(D41)) -> 1
A42: 委託内容：８その他 | G42: － | J42: ▼選択：○（該当する）／－（該当しない） | S42: =IF($D$30="１直営",0,COUNTBLANK(D42)) -> 1
A43: 委託内容：８その他の内容 | S43: =IF(OR($D$30="１直営",$D$42="－"),0,COUNTBLANK(D43)) -> 1
A44: ③④目的・組織図
A45: ③栄養管理業務担当部門(給食)の目的・目標・方針 | G45: １有 | J45: ▼選択：１有／２無 | S45: =IF($D$8="該当する",0,COUNTBLANK(D45)) -> 1
A46: ④組織図 | G46: １有 | J46: ▼選択：１有／２無 | S46: =IF($D$8="該当する",0,COUNTBLANK(D46)) -> 1
A47: ⑤給食の機能
A48: 健康づくりの一環として給食が機能しているか | G48: １十分機能している | J48: ▼選択：１十分機能している／２まだ十分でない／３機能していない／４分からない | S48: =IF($D$8="該当する",0,COUNTBLANK(D48)) -> 1
A49: ⑥栄養管理等について検討する会議
A50: 会議の有無 | G50: １有 | J50: ▼選択：１有／２無 | S50: =IF($D$8="該当する",0,COUNTBLANK(D50)) -> 1
A51: 会議の名称 | G51: 給食運営委員会 | S51: =IF(OR($D$8="該当する",$D$50="２無"),0,COUNTBLANK(D51)) -> 1
A52: 実施回数 | G52: 3 | J52: 半角数字（整数） | S52: =IF(OR($D$8="該当する",$D$50="２無"),0,COUNTBLANK(D52)) -> 1
A53: 実施回数の単位 | G53: 年 | J53: ▼選択：週／月／年 | S53: =IF(OR($D$8="該当する",$D$50="２無"),0,COUNTBLANK(D53)) -> 1
A54: 会議の記録 | G54: １有 | J54: ▼選択：１有／２無 | S54: =IF(OR($D$8="該当する",$D$50="２無"),0,COUNTBLANK(D54)) -> 1
A55: 構成職種：１施設長 | G55: ○ | J55: ▼選択：○（該当する）／－（該当しない） | S55: =IF(OR($D$8="該当する",$D$50="２無"),0,COUNTBLANK(D55)) -> 1
A56: 構成職種：２給食主任 | G56: ○ | J56: ▼選択：○（該当する）／－（該当しない） | S56: =IF(OR($D$8="該当する",$D$50="２無"),0,COUNTBLANK(D56)) -> 1
A57: 構成職種：３栄養教諭・学校栄養職員 | G57: ○ | J57: ▼選択：○（該当する）／－（該当しない） | S57: =IF(OR($D$8="該当する",$D$50="２無"),0,COUNTBLANK(D57)) -> 1
A58: 構成職種：４調理師(員) | G58: ○ | J58: ▼選択：○（該当する）／－（該当しない） | S58: =IF(OR($D$8="該当する",$D$50="２無"),0,COUNTBLANK(D58)) -> 1
A59: 構成職種：５教員代表 | G59: － | J59: ▼選択：○（該当する）／－（該当しない） | S59: =IF(OR($D$8="該当する",$D$50="２無"),0,COUNTBLANK(D59)) -> 1
A60: 構成職種：６受託業者 | G60: － | J60: ▼選択：○（該当する）／－（該当しない） | S60: =IF(OR($D$8="該当する",$D$50="２無"),0,COUNTBLANK(D60)) -> 1
A61: 構成職種：７保護者代表 | G61: － | J61: ▼選択：○（該当する）／－（該当しない） | S61: =IF(OR($D$8="該当する",$D$50="２無"),0,COUNTBLANK(D61)) -> 1
A62: 構成職種：８その他 | G62: － | J62: ▼選択：○（該当する）／－（該当しない） | S62: =IF(OR($D$8="該当する",$D$50="２無"),0,COUNTBLANK(D62)) -> 1
A63: 構成職種：８その他の内容 | S63: =IF(OR($D$8="該当する",$D$50="２無",$D$62="－"),0,COUNTBLANK(D63)) -> 1
A64: 構成職種 合計人数 | G64: 8 | J64: 半角数字（整数） | S64: =IF(OR($D$8="該当する",$D$50="２無"),0,COUNTBLANK(D64)) -> 1
A65: 会議の目的 | G65: 給食内容及び衛生管理の検討 | S65: =IF(OR($D$8="該当する",$D$50="２無"),0,COUNTBLANK(D65)) -> 1
A66: ⑦従事者の研修
A67: 研修の有無 | G67: １有 | J67: ▼選択：１有／２無 | S67: =IF($D$8="該当する",0,COUNTBLANK(D67)) -> 1
A68: 管理栄養士・栄養士１人当たりの参加回数／年 | G68: 2 | J68: 半角数字（小数可。２年に１回の場合は 0.5） | S68: =IF(OR($D$8="該当する",$D$67="２無"),0,COUNTBLANK(D68)) -> 1
A69: 調理従事者１人当たりの参加回数／年 | G69: 1 | J69: 半角数字（小数可。２年に１回の場合は 0.5） | S69: =IF(OR($D$8="該当する",$D$67="２無"),0,COUNTBLANK(D69)) -> 1
A70: ⑧食数
A71: 食数（人） | D71: 朝 | E71: 昼 | F71: 夕 | G71: 備考（内容） | J71: 備考 （食数） | K71: 朝・昼・夕・備考（食数）は半角数字（整数）。提供がない欄は空欄のまま
A72: 小学校
A73: 中学校
A74: 高等学校
A75: 特別支援学校
A76: その他
A77: ※提供がない区分・時間帯の食数は空欄のままにしてください（「0」の入力は不要です）。備考は内容とその食数を入力してください。
A78: ※「その他」の区分名は下の欄に入力してください。①対象校の「その他（名称）」が自動で表示されます（異なる場合は上書きしてください）。
A79: 食数：その他（区分名） | D79: =IF($D$27="","",$D$27) | G79: （例）義務教育学校 | J79: 自動表示（①対象校のその他（名称））。異なる場合は上書き
A80: ⑨給食形態等
A81: 献立の形態 | G81: １単一献立 | J81: ▼選択：１単一献立／２複数献立 | S81: =IF($D$8="該当する",0,COUNTBLANK(D81)) -> 1
A82: アレルギー給食対応 | G82: １有 | J82: ▼選択：１有／２無 | S82: =IF($D$8="該当する",0,COUNTBLANK(D82)) -> 1
A83: アレルギー給食対応の内容 | G83: 除去食 | S83: =IF(OR($D$8="該当する",$D$82="２無"),0,COUNTBLANK(D83)) -> 1
A84: 特別給食対応(腎臓病食等) | G84: ２無 | J84: ▼選択：１有／２無 | S84: =IF($D$8="該当する",0,COUNTBLANK(D84)) -> 1
A85: 特別給食対応の内容 | S85: =IF(OR($D$8="該当する",$D$84="２無"),0,COUNTBLANK(D85)) -> 1
A86: 食堂又はランチルーム | G86: ２無 | J86: ▼選択：１有／２無 | S86: =IF($D$8="該当する",0,COUNTBLANK(D86)) -> 1
A87: ⑩従事者数
A88: 従事者数（人） | D88: 施設側 常勤 | E88: 施設側 非常勤 | F88: 受託側 常勤 | G88: 受託側 非常勤 | H88: 入力：半角数字（整数）
A89: 管理栄養士 | S89: =IF($D$30="１直営",0,COUNTBLANK(F89)+COUNTBLANK(G89))+COUNTBLANK(D89)+COUNTBLANK(E89) -> 4
A90: 栄養士 | S90: =IF($D$30="１直営",0,COUNTBLANK(F90)+COUNTBLANK(G90))+COUNTBLANK(D90)+COUNTBLANK(E90) -> 4
A91: 調理師 | S91: =IF($D$30="１直営",0,COUNTBLANK(F91)+COUNTBLANK(G91))+COUNTBLANK(D91)+COUNTBLANK(E91) -> 4
A92: 調理員 | S92: =IF($D$30="１直営",0,COUNTBLANK(F92)+COUNTBLANK(G92))+COUNTBLANK(D92)+COUNTBLANK(E92) -> 4
A93: その他 | S93: =IF($D$30="１直営",0,COUNTBLANK(F93)+COUNTBLANK(G93))+COUNTBLANK(D93)+COUNTBLANK(E93) -> 4
A94: ※従事者がいない欄には「０」を入力してください（未入力チェックの対象です）。合計は印刷シートで自動計算されます。
A96: 代表(施設側)管理栄養士・栄養士 職名 | G96: 栄養士 | J96: ▼選択：管理栄養士／栄養士
A97: 代表(施設側)管理栄養士・栄養士 氏名 | G97: 美濃 一郎
A98: 代表(施設側) 在籍年数 | G98: 5 | J98: 半角数字（小数可）
A99: 代表(受託側)管理栄養士・栄養士 職名 | J99: ▼選択：管理栄養士／栄養士
A100: 代表(受託側)管理栄養士・栄養士 氏名
A101: 代表(受託側) 在籍年数 | J101: 半角数字（小数可）
...

Sheet 【施設・保健所用】印刷シート（入力不要）
A1: 第４号様式（第３条関係） | K1: 食数が１回２０食未満かつ１日５０食未満の施設は①②⑧⑩㉓の項目を報告してください。
A3: 栄養管理報告書（学校用） | U3: =IF('【施設用】入力シート（こちらにご入力ください）'!$I$1="","","施設番号："&'【施設用】入力シート（こちらにご入力ください）'!$I$1) | V3: =IF('【施設用】入力シート（こちらにご入力ください）'!$D$10=""," 年 月 日",'【施設用】入力シート（こちらにご入力ください）'!$D$10) -> 年 月 日
A5: 施設の名称 | G5: =IF('【施設用】入力シート（こちらにご入力ください）'!$D$12="","",'【施設用】入力シート（こちらにご入力ください）'!$D$12) | Q5: 栄養管理部門名 | X5: =IF('【施設用】入力シート（こちらにご入力ください）'!$D$17="","",'【施設用】入力シート（こちらにご入力ください）'!$D$17)
A6: 施設の所在地 〒 | G6: =IF('【施設用】入力シート（こちらにご入力ください）'!$D$13="","",'【施設用】入力シート（こちらにご入力ください）'!$D$13)&" "&IF('【施設用】入力シート（こちらにご入力ください）'!$D$14="","",'【施設用】入力シート（こちらにご入力ください）'!$D$14) | Q6: 栄養管理責任者（職名・氏名） | X6: =IF('【施設用】入力シート（こちらにご入力ください）'!$D$18="","",'【施設用】入力シート（こちらにご入力ください）'!$D$18)
A7: 施設設置者（職名・氏名） | G7: =IF('【施設用】入力シート（こちらにご入力ください）'!$D$15="","",'【施設用】入力シート（こちらにご入力ください）'!$D$15) | Q7: ＴＥＬ | T7: =IF('【施設用】入力シート（こちらにご入力ください）'!$D$19="","",'【施設用】入力シート（こちらにご入力ください）'!$D$19) | Z7: ＦＡＸ | AC7: =IF('【施設用】入力シート（こちらにご入力ください）'!$D$20="","",'【施設用】入力シート（こちらにご入力ください）'!$D$20)
A8: 施設管理者（職名・氏名） | G8: =IF('【施設用】入力シート（こちらにご入力ください）'!$D$16="","",'【施設用】入力シート（こちらにご入力ください）'!$D$16) | Q8: 代表Ｅ-mail | X8: =IF('【施設用】入力シート（こちらにご入力ください）'!$D$21="","",'【施設用】入力シート（こちらにご入力ください）'!$D$21)
A10: =IF('【施設用】入力シート（こちらにご入力ください）'!$D$11="","岐阜県 保健所長 様","岐阜県 "&'【施設用】入力シート（こちらにご入力ください）'!$D$11&"長 様") -> 岐阜県 保健所長 様
A11: 岐阜県健康増進法施行細則第３条の規定により、11月中に実施した給食について報告します。
A12: ①対象校 | D12: ="１小学校("&IF('【施設用】入力シート（こちらにご入力ください）'!$D$23=""," ",'【施設用】入力シート（こちらにご入力ください）'!$D$23)&"校) ２中学校("&IF('【施設用】入力シート（こちらにご入力ください）'!$D$24=""," ",'【施設用】入力シート（こちらにご入力ください）'!$D$24)&"校) ３高等学校("&IF('【施設用】入力シート（こちらにご入力ください）'!$D$25=""," ",'【施設用】入力シート（こちらにご入力ください）'!$D$25)&"校) ４特別支援学校("&IF('【施設用】入力シート（こちらにご入力ください）'!$D$26=""," ",'【施設用】入力シート（こちらにご入力ください）'!$D$26)&"校) ５その他["&IF('【施設用】入力シート（こちらにご入力ください）'!$D$27=""," ",'【施設用】入力シート（こちらにご入力ください）'!$D$27)&"]("&IF('【施設用】入力シート（こちらにご入力ください）'!$D$28=""," ",'【施設用】入力シート（こちらにご入力ください）'!$D$28)&"校)" -> １小学校( 校) ２中学校( 校) ３高等学校( 校) ４特別支援学校( 校) ５その他[ ]( 校)
A13: ②給食の運営方式 | F13: =IF('【施設用】入力シート（こちらにご入力ください）'!$D$30="１直営","①直営","１直営")&" "&IF('【施設用】入力シート（こちらにご入力ください）'!$D$30="２委託","②委託","２委託")&"( "&IF('【施設用】入力シート（こちらにご入力ください）'!$D$31="全面","■全面","□全面")&"・"&IF('【施設用】入力シート（こちらにご入力ください）'!$D$31="一部","■一部","□一部")&" )" -> １直営 ２委託( □全面・□一部 ) | Q13: 委託契約書類の整備 | W13: =IF('【施設用】入力シート（こちらにご入力ください）'!$D$32="１有","①有","１有")&" "&IF('【施設用】入力シート（こちらにご入力ください）'!$D$32="２無","②無","２無") -> １有 ２無
A14: 委託先名称 | F14: =IF('【施設用】入力シート（こちらにご入力ください）'!$D$33="","",'【施設用】入力シート（こちらにご入力ください）'!$D$33) | Q14: 所在地 | T14: =IF('【施設用】入力シート（こちらにご入力ください）'!$D$34="","",'【施設用】入力シート（こちらにご入力ください）'!$D$34)
A15: 委託内容 | F15: =IF('【施設用】入力シート（こちらにご入力ください）'!$D$35="○","①献立作成","１献立作成")&" "&IF('【施設用】入力シート（こちらにご入力ください）'!$D$36="○","②材料購入","２材料購入")&" "&IF('【施設用】入力シート（こちらにご入力ください）'!$D$37="○","③調理","３調理")&" "&IF('【施設用】入力シート（こちらにご入力ください）'!$D$38="○","④配膳","４配膳")&" "&IF('【施設用】入力シート（こちらにご入力ください）'!$D$39="○","⑤下膳","５下膳")&" "&IF('【施設用】入力シート（こちらにご入力ください）'!$D$40="○","⑥食器洗浄","６食器洗浄")&" "&IF('【施設用】入力シート（こちらにご入力ください）'!$D$41="○","⑦施設外調理","７施設外調理")&" "&IF('【施設用】入力シート（こちらにご入力ください）'!$D$42="○","⑧その他","８その他")&"("&IF('【施設用】入力シート（こちらにご入力ください）'!$D$43=""," ",'【施設用】入力シート（こちらにご入力ください）'!$D$43)&")" -> １献立作成 ２材料購入 ３調理 ４配膳 ５下膳 ６食器洗浄 ７施設外調理 ８その他( )
A16: ③栄養管理業務担当部門(給食)の目的・目標・方針 | N16: =IF('【施設用】入力シート（こちらにご入力ください）'!$D$45="１有","①有","１有")&" "&IF('【施設用】入力シート（こちらにご入力ください）'!$D$45="２無","②無","２無") -> １有 ２無 | T16: ④組織図 | W16: =IF('【施設用】入力シート（こちらにご入力ください）'!$D$46="１有","①有","１有")&" "&IF('【施設用】入力シート（こちらにご入力ください）'!$D$46="２無","②無","２無") -> １有 ２無
A17: ⑤健康づくりの一環として給食が機能しているか | N17: =IF('【施設用】入力シート（こちらにご入力ください）'!$D$48="１十分機能している","①十分機能している","１十分機能している")&" "&IF('【施設用】入力シート（こちらにご入力ください）'!$D$48="２まだ十分でない","②まだ十分でない","２まだ十分でない")&" "&IF('【施設用】入力シート（こちらにご入力ください）'!$D$48="３機能していない","③機能していない","３機能していない")&" "&IF('【施設用】入力シート（こちらにご入力ください）'!$D$48="４分からない","④分からない","４分からない") -> １十分機能している ２まだ十分でない ３機能していない ４分からない
A18: ⑥栄養管理等について検討する会議 | N18: =IF('【施設用】入力シート（こちらにご入力ください）'!$D$50="１有","①有","１有")&" "&IF('【施設用】入力シート（こちらにご入力ください）'!$D$50="２無","②無","２無") -> １有 ２無 | T18: 名 称 | W18: =IF('【施設用】入力シート（こちらにご入力ください）'!$D$51="","",'【施設用】入力シート（こちらにご入力ください）'!$D$51)
A19: 実施回数 | F19: ="(" -> ( | G19: =IF('【施設用】入力シート（こちらにご入力ください）'!$D$52=""," ",'【施設用】入力シート（こちらにご入力ください）'!$D$52) | L19: ）回／ | N19: =IF('【施設用】入力シート（こちらにご入力ください）'!$D$53="週","■週","□週")&"・"&IF('【施設用】入力シート（こちらにご入力ください）'!$D$53="月","■月","□月")&"・"&IF('【施設用】入力シート（こちらにご入力ください）'!$D$53="年","■年","□年") -> □週・□月・□年 | T19: 会議の記録 | W19: =IF('【施設用】入力シート（こちらにご入力ください）'!$D$54="１有","①有","１有")&" "&IF('【施設用】入力シート（こちらにご入力ください）'!$D$54="２無","②無","２無") -> １有 ２無
A20: 構成職種 | F20: =IF('【施設用】入力シート（こちらにご入力ください）'!$D$55="○","①施設長","１施設長")&" "&IF('【施設用】入力シート（こちらにご入力ください）'!$D$56="○","②給食主任","２給食主任")&" "&IF('【施設用】入力シート（こちらにご入力ください）'!$D$57="○","③栄養教諭・学校栄養職員","３栄養教諭・学校栄養職員")&" "&IF('【施設用】入力シート（こちらにご入力ください）'!$D$58="○","④調理師(員)","４調理師(員)")&" "&IF('【施設用】入力シート（こちらにご入力ください）'!$D$59="○","⑤教員代表","５教員代表") -> １施設長 ２給食主任 ３栄養教諭・学校栄養職員 ４調理師(員) ５教員代表
F21: =IF('【施設用】入力シート（こちらにご入力ください）'!$D$60="○","⑥受託業者","６受託業者")&" "&IF('【施設用】入力シート（こちらにご入力ください）'!$D$61="○","⑦保護者代表","７保護者代表")&" "&IF('【施設用】入力シート（こちらにご入力ください）'!$D$62="○","⑧その他","８その他")&"("&IF('【施設用】入力シート（こちらにご入力ください）'!$D$63=""," ",'【施設用】入力シート（こちらにご入力ください）'!$D$63)&")" -> ６受託業者 ７保護者代表 ８その他( ) | AA21: ="合計 "&IF('【施設用】入力シート（こちらにご入力ください）'!$D$64=""," ",'【施設用】入力シート（こちらにご入力ください）'!$D$64)&" 人" -> 合計 人
A22: 会議の目的 | F22: =IF('【施設用】入力シート（こちらにご入力ください）'!$D$65="","",'【施設用】入力シート（こちらにご入力ください）'!$D$65)
A23: ⑦従事者の研修 | H23: =IF('【施設用】入力シート（こちらにご入力ください）'!$D$67="１有","①有","１有")&" "&IF('【施設用】入力シート（こちらにご入力ください）'!$D$67="２無","②無","２無") -> １有 ２無
A24: ="管理栄養士・栄養士１人当たりの参加回数（" -> 管理栄養士・栄養士１人当たりの参加回数（ | L24: =IF('【施設用】入力シート（こちらにご入力ください）'!$D$68=""," ",'【施設用】入力シート（こちらにご入力ください）'!$D$68) | O24: ）回／年 | R24: ="調理従事者１人当たりの参加回数（" -> 調理従事者１人当たりの参加回数（ | AA24: =IF('【施設用】入力シート（こちらにご入力ください）'!$D$69=""," ",'【施設用】入力シート（こちらにご入力ください）'!$D$69) | AD24: ）回／年
A26: ⑧食数 | G26: 朝 | K26: 昼 | O26: 夕 | S26: 備考 | W26: ⑨給食形態等 | AA26: =IF('【施設用】入力シート（こちらにご入力ください）'!$D$81="１単一献立","①単一献立","１単一献立")&" "&IF('【施設用】入力シート（こちらにご入力ください）'!$D$81="２複数献立","②複数献立","２複数献立") -> １単一献立 ２複数献立
A27: 小学校 | G27: =IF('【施設用】入力シート（こちらにご入力ください）'!$D$72="","",'【施設用】入力シート（こちらにご入力ください）'!$D$72) | K27: =IF('【施設用】入力シート（こちらにご入力ください）'!$E$72="","",'【施設用】入力シート（こちらにご入力ください）'!$E$72) | O27: =IF('【施設用】入力シート（こちらにご入力ください）'!$F$72="","",'【施設用】入力シート（こちらにご入力ください）'!$F$72) | S27: =IF(AND('【施設用】入力シート（こちらにご入力ください）'!$G$72="",'【施設用】入力シート（こちらにご入力ください）'!$J$72=""),"",'【施設用】入力シート（こちらにご入力ください）'!$G$72&IF('【施設用】入力シート（こちらにご入力ください）'!$J$72="",""," "&'【施設用】入力シート（こちらにご入力ください）'!$J$72&"食")) | W27: アレルギー給食対応
A28: 中学校 | G28: =IF('【施設用】入力シート（こちらにご入力ください）'!$D$73="","",'【施設用】入力シート（こちらにご入力ください）'!$D$73) | K28: =IF('【施設用】入力シート（こちらにご入力ください）'!$E$73="","",'【施設用】入力シート（こちらにご入力ください）'!$E$73) | O28: =IF('【施設用】入力シート（こちらにご入力ください）'!$F$73="","",'【施設用】入力シート（こちらにご入力ください）'!$F$73) | S28: =IF(AND('【施設用】入力シート（こちらにご入力ください）'!$G$73="",'【施設用】入力シート（こちらにご入力ください）'!$J$73=""),"",'【施設用】入力シート（こちらにご入力ください）'!$G$73&IF('【施設用】入力シート（こちらにご入力ください）'!$J$73="",""," "&'【施設用】入力シート（こちらにご入力ください）'!$J$73&"食")) | W28: =IF('【施設用】入力シート（こちらにご入力ください）'!$D$82="１有","①有","１有")&"（"&IF('【施設用】入力シート（こちらにご入力ください）'!$D$83=""," ",'【施設用】入力シート（こちらにご入力ください）'!$D$83)&"） "&IF('【施設用】入力シート（こちらにご入力ください）'!$D$82="２無","②無","２無") -> １有（ ） ２無
A29: 高等学校 | G29: =IF('【施設用】入力シート（こちらにご入力ください）'!$D$74="","",'【施設用】入力シート（こちらにご入力ください）'!$D$74) | K29: =IF('【施設用】入力シート（こちらにご入力ください）'!$E$74="","",'【施設用】入力シート（こちらにご入力ください）'!$E$74) | O29: =IF('【施設用】入力シート（こちらにご入力ください）'!$F$74="","",'【施設用】入力シート（こちらにご入力ください）'!$F$74) | S29: =IF(AND('【施設用】入力シート（こちらにご入力ください）'!$G$74="",'【施設用】入力シート（こちらにご入力ください）'!$J$74=""),"",'【施設用】入力シート（こちらにご入力ください）'!$G$74&IF('【施設用】入力シート（こちらにご入力ください）'!$J$74="",""," "&'【施設用】入力シート（こちらにご入力ください）'!$J$74&"食")) | W29: 特別給食対応(腎臓病食等)
A30: 特別支援学校 | G30: =IF('【施設用】入力シート（こちらにご入力ください）'!$D$75="","",'【施設用】入力シート（こちらにご入力ください）'!$D$75) | K30: =IF('【施設用】入力シート（こちらにご入力ください）'!$E$75="","",'【施設用】入力シート（こちらにご入力ください）'!$E$75) | O30: =IF('【施設用】入力シート（こちらにご入力ください）'!$F$75="","",'【施設用】入力シート（こちらにご入力ください）'!$F$75) | S30: =IF(AND('【施設用】入力シート（こちらにご入力ください）'!$G$75="",'【施設用】入力シート（こちらにご入力ください）'!$J$75=""),"",'【施設用】入力シート（こちらにご入力ください）'!$G$75&IF('【施設用】入力シート（こちらにご入力ください）'!$J$75="",""," "&'【施設用】入力シート（こちらにご入力ください）'!$J$75&"食")) | W30: =IF('【施設用】入力シート（こちらにご入力ください）'!$D$84="１有","①有","１有")&"（"&IF('【施設用】入力シート（こちらにご入力ください）'!$D$85=""," ",'【施設用】入力シート（こちらにご入力ください）'!$D$85)&"） "&IF('【施設用】入力シート（こちらにご入力ください）'!$D$84="２無","②無","２無") -> １有（ ） ２無
A31: ="その他("&IF('【施設用】入力シート（こちらにご入力ください）'!$D$79=""," ",'【施設用】入力シート（こちらにご入力ください）'!$D$79)&")" -> その他( ) | G31: =IF('【施設用】入力シート（こちらにご入力ください）'!$D$76="","",'【施設用】入力シート（こちらにご入力ください）'!$D$76) | K31: =IF('【施設用】入力シート（こちらにご入力ください）'!$E$76="","",'【施設用】入力シート（こちらにご入力ください）'!$E$76) | O31: =IF('【施設用】入力シート（こちらにご入力ください）'!$F$76="","",'【施設用】入力シート（こちらにご入力ください）'!$F$76) | S31: =IF(AND('【施設用】入力シート（こちらにご入力ください）'!$G$76="",'【施設用】入力シート（こちらにご入力ください）'!$J$76=""),"",'【施設用】入力シート（こちらにご入力ください）'!$G$76&IF('【施設用】入力シート（こちらにご入力ください）'!$J$76="",""," "&'【施設用】入力シート（こちらにご入力ください）'!$J$76&"食")) | W31: 食堂又はランチルーム
A32: 計 | G32: =IF(COUNT(G27:J31)=0,"",SUM(G27:J31)) | K32: =IF(COUNT(K27:N31)=0,"",SUM(K27:N31)) | O32: =IF(COUNT(O27:R31)=0,"",SUM(O27:R31)) | S32: 合計 | T32: =IF(COUNT(G32:S32)=0,"",SUM(G32:S32)) | W32: =IF('【施設用】入力シート（こちらにご入力ください）'!$D$86="１有","①有","１有")&" "&IF('【施設用】入力シート（こちらにご入力ください）'!$D$86="２無","②無","２無") -> １有 ２無
A34: ⑩従事者数 | G34: 施設側（人） | O34: 受託側（人） | W34: 代 表 | AB34: 氏 名 | AE34: 在籍 年数
G35: 常 勤 | K35: 非常勤 | O35: 常 勤 | S35: 非常勤
A36: 管理栄養士 | G36: =IF('【施設用】入力シート（こちらにご入力ください）'!$D$89="","",'【施設用】入力シート（こちらにご入力ください）'!$D$89) | K36: =IF('【施設用】入力シート（こちらにご入力ください）'!$E$89="","",'【施設用】入力シート（こちらにご入力ください）'!$E$89) | O36: =IF('【施設用】入力シート（こちらにご入力ください）'!$F$89="","",'【施設用】入力シート（こちらにご入力ください）'!$F$89) | S36: =IF('【施設用】入力シート（こちらにご入力ください）'!$G$89="","",'【施設用】入力シート（こちらにご入力ください）'!$G$89) | W36: ="(施設側)"&CHAR(10)&IF('【施設用】入力シート（こちらにご入力ください）'!$D$96="管理栄養士","■管理栄養士・□栄養士",IF('【施設用】入力シート（こちらにご入力ください）'!$D$96="栄養士","□管理栄養士・■栄養士","□管理栄養士・□栄養士")) -> (施設側) □管理栄養士・□栄養士 | AB36: =IF('【施設用】入力シート（こちらにご入力ください）'!$D$97="","",'【施設用】入力シート（こちらにご入力ください）'!$D$97) | AE36: =IF('【施設用】入力シート（こちらにご入力ください）'!$D$98="","",'【施設用】入力シート（こちらにご入力ください）'!$D$98)
A37: 栄養士 | G37: =IF('【施設用】入力シート（こちらにご入力ください）'!$D$90="","",'【施設用】入力シート（こちらにご入力ください）'!$D$90) | K37: =IF('【施設用】入力シート（こちらにご入力ください）'!$E$90="","",'【施設用】入力シート（こちらにご入力ください）'!$E$90) | O37: =IF('【施設用】入力シート（こちらにご入力ください）'!$F$90="","",'【施設用】入力シート（こちらにご入力ください）'!$F$90) | S37: =IF('【施設用】入力シート（こちらにご入力ください）'!$G$90="","",'【施設用】入力シート（こちらにご入力ください）'!$G$90)
A38: 調理師 | G38: =IF('【施設用】入力シート（こちらにご入力ください）'!$D$91="","",'【施設用】入力シート（こちらにご入力ください）'!$D$91) | K38: =IF('【施設用】入力シート（こちらにご入力ください）'!$E$91="","",'【施設用】入力シート（こちらにご入力ください）'!$E$91) | O38: =IF('【施設用】入力シート（こちらにご入力ください）'!$F$91="","",'【施設用】入力シート（こちらにご入力ください）'!$F$91) | S38: =IF('【施設用】入力シート（こちらにご入力ください）'!$G$91="","",'【施設用】入力シート（こちらにご入力ください）'!$G$91) | W38: ="(受託側)"&CHAR(10)&IF('【施設用】入力シート（こちらにご入力ください）'!$D$99="管理栄養士","■管理栄養士・□栄養士",IF('【施設用】入力シート（こちらにご入力ください）'!$D$99="栄養士","□管理栄養士・■栄養士","□管理栄養士・□栄養士")) -> (受託側) □管理栄養士・□栄養士 | AB38: =IF('【施設用】入力シート（こちらにご入力ください）'!$D$100="","",'【施設用】入力シート（こちらにご入力ください）'!$D$100) | AE38: =IF('【施設用】入力シート（こちらにご入力ください）'!$D$101="","",'【施設用】入力シート（こちらにご入力ください）'!$D$101)
A39: 調理員 | G39: =IF('【施設用】入力シート（こちらにご入力ください）'!$D$92="","",'【施設用】入力シート（こちらにご入力ください）'!$D$92) | K39: =IF('【施設用】入力シート（こちらにご入力ください）'!$E$92="","",'【施設用】入力シート（こちらにご入力ください）'!$E$92) | O39: =IF('【施設用】入力シート（こちらにご入力ください）'!$F$92="","",'【施設用】入力シート（こちらにご入力ください）'!$F$92) | S39: =IF('【施設用】入力シート（こちらにご入力ください）'!$G$92="","",'【施設用】入力シート（こちらにご入力ください）'!$G$92)
A40: その他 | G40: =IF('【施設用】入力シート（こちらにご入力ください）'!$D$93="","",'【施設用】入力シート（こちらにご入力ください）'!$D$93) | K40: =IF('【施設用】入力シート（こちらにご入力ください）'!$E$93="","",'【施設用】入力シート（こちらにご入力ください）'!$E$93) | O40: =IF('【施設用】入力シート（こちらにご入力ください）'!$F$93="","",'【施設用】入力シート（こちらにご入力ください）'!$F$93) | S40: =IF('【施設用】入力シート（こちらにご入力ください）'!$G$93="","",'【施設用】入力シート（こちらにご入力ください）'!$G$93)
A41: 合計 | G41: =IF(COUNT(G36:J40)=0,"",SUM(G36:J40)) | K41: =IF(COUNT(K36:N40)=0,"",SUM(K36:N40)) | O41: =IF(COUNT(O36:R40)=0,"",SUM(O36:R40)) | S41: =IF(COUNT(S36:V40)=0,"",SUM(S36:V40))
A43: ⑪児童・生徒の把握 | G43: =IF('【施設用】入力シート（こちらにご入力ください）'!$D$103="１有","①有","１有")&" "&IF('【施設用】入力シート（こちらにご入力ください）'!$D$103="２無","②無","２無") -> １有 ２無 | Q43: ="※ "&IF('【施設用】入力シート（こちらにご入力ください）'!$D$104=""," ",'【施設用】入力シート（こちらにご入力ください）'!$D$104)&"月 "&IF('【施設用】入力シート（こちらにご入力ください）'!$D$105=""," ",'【施設用】入力シート（こちらにご入力ください）'!$D$105)&"日現在" -> ※ 月 日現在
A44: 学校区分 | G44: 児童・生徒数 | L44: 肥満(人) | Q44: やせ(人) | V44: 身長の把握 | AB44: =IF('【施設用】入力シート（こちらにご入力ください）'!$D$112="１有","①有","１有")&" "&IF('【施設用】入力シート（こちらにご入力ください）'!$D$112="２無","②無","２無") -> １有 ２無
A45: =IF('【施設用】入力シート（こちらにご入力ください）'!$D$107="","",'【施設用】入力シート（こちらにご入力ください）'!$D$107) | G45: =IF('【施設用】入力シート（こちらにご入力ください）'!$E$107="","",'【施設用】入力シート（こちらにご入力ください）'!$E$107) | L45: =IF('【施設用】入力シート（こちらにご入力ください）'!$F$107="","",'【施設用】入力シート（こちらにご入力ください）'!$F$107) | Q45: =IF('【施設用】入力シート（こちらにご入力ください）'!$G$107="","",'【施設用】入力シート（こちらにご入力ください）'!$G$107) | V45: 体重の把握 | AB45: =IF('【施設用】入力シート（こちらにご入力ください）'!$D$113="１有","①有","１有")&" "&IF('【施設用】入力シート（こちらにご入力ください）'!$D$113="２無","②無","２無") -> １有 ２無
A46: =IF('【施設用】入力シート（こちらにご入力ください）'!$D$108="","",'【施設用】入力シート（こちらにご入力ください）'!$D$108) | G46: =IF('【施設用】入力シート（こちらにご入力ください）'!$E$108="","",'【施設用】入力シート（こちらにご入力ください）'!$E$108) | L46: =IF('【施設用】入力シート（こちらにご入力ください）'!$F$108="","",'【施設用】入力シート（こちらにご入力ください）'!$F$108) | Q46: =IF('【施設用】入力シート（こちらにご入力ください）'!$G$108="","",'【施設用】入力シート（こちらにご入力ください）'!$G$108) | V46: 肥満度の把握 | AB46: =IF('【施設用】入力シート（こちらにご入力ください）'!$D$114="１有","①有","１有")&" "&IF('【施設用】入力シート（こちらにご入力ください）'!$D$114="２無","②無","２無") -> １有 ２無
A47: =IF('【施設用】入力シート（こちらにご入力ください）'!$D$109="","",'【施設用】入力シート（こちらにご入力ください）'!$D$109) | G47: =IF('【施設用】入力シート（こちらにご入力ください）'!$E$109="","",'【施設用】入力シート（こちらにご入力ください）'!$E$109) | L47: =IF('【施設用】入力シート（こちらにご入力ください）'!$F$109="","",'【施設用】入力シート（こちらにご入力ください）'!$F$109) | Q47: =IF('【施設用】入力シート（こちらにご入力ください）'!$G$109="","",'【施設用】入力シート（こちらにご入力ください）'!$G$109) | V47: 疾病状況の把握 | AB47: =IF('【施設用】入力シート（こちらにご入力ください）'!$D$115="１有","①有","１有")&" "&IF('【施設用】入力シート（こちらにご入力ください）'!$D$115="２無","②無","２無") -> １有 ２無
A48: 合 計 | G48: =IF(COUNT(G45:K47)=0,"",SUM(G45:K47)) | L48: =IF(COUNT(L45:P47)=0,"",SUM(L45:P47)) | Q48: =IF(COUNT(Q45:U47)=0,"",SUM(Q45:U47)) | V48: 食物アレルギーの把握 | AB48: =IF('【施設用】入力シート（こちらにご入力ください）'!$D$116="１有","①有","１有")&" "&IF('【施設用】入力シート（こちらにご入力ください）'!$D$116="２無","②無","２無") -> １有 ２無
A50: ⑫栄養量と評価 | F50: 食種名(提供の多い給食) | L50: =IF('【施設用】入力シート（こちらにご入力ください）'!$D$118="","",'【施設用】入力シート（こちらにご入力ください）'!$D$118) | V50: 給与栄養目標量の設定年月 | AB50: =IF('【施設用】入力シート（こちらにご入力ください）'!$D$119=""," ",'【施設用】入力シート（こちらにご入力ください）'!$D$119)&"年 "&IF('【施設用】入力シート（こちらにご入力ください）'!$D$120=""," ",'【施設用】入力シート（こちらにご入力ください）'!$D$120)&"月" -> 年 月
A51: 給与栄養目標量の設定根拠 | L51: =IF('【施設用】入力シート（こちらにご入力ください）'!$D$121="","",'【施設用】入力シート（こちらにご入力ください）'!$D$121)
A52: 給与栄養目標量・給与量に含まれる食事 | L52: =IF('【施設用】入力シート（こちらにご入力ください）'!$D$122="○","①朝食","１朝食")&" "&IF('【施設用】入力シート（こちらにご入力ください）'!$D$123="○","②昼食","２昼食")&" "&IF('【施設用】入力シート（こちらにご入力ください）'!$D$124="○","③夕食","３夕食")&" "&IF('【施設用】入力シート（こちらにご入力ください）'!$D$125="○","④おやつ","４おやつ")&" "&IF('【施設用】入力シート（こちらにご入力ください）'!$D$126="○","⑤その他","５その他")&"（"&IF('【施設用】入力シート（こちらにご入力ください）'!$D$127=""," ",'【施設用】入力シート（こちらにご入力ください）'!$D$127)&"）" -> １朝食 ２昼食 ３夕食 ４おやつ ５その他（ ）
E53: エネル ギー (kcal) | G53: たんぱく質 (g) | I53: 脂質 (g) | K53: カルシウム (㎎) | M53: 鉄 (㎎) | O53: ビタミン | W53: 食物繊維 (g) | Y53: 食塩相当量 (g) | AA53: 炭水化物エネルギー比 (%) | AC53: 脂質エネルギー比 (%) | AE53: たんぱく質エネルギー比 (%)
O54: Ａ(μg) | Q54: Ｂ１(㎎) | S54: Ｂ２(㎎) | U54: Ｃ(㎎)
A55: 給与栄養 目標量 | E55: =IF('【施設用】入力シート（こちらにご入力ください）'!$D$129="","",'【施設用】入力シート（こちらにご入力ください）'!$D$129) | G55: =IF('【施設用】入力シート（こちらにご入力ください）'!$E$129="","",'【施設用】入力シート（こちらにご入力ください）'!$E$129) | I55: =IF('【施設用】入力シート（こちらにご入力ください）'!$F$129="","",'【施設用】入力シート（こちらにご入力ください）'!$F$129) | K55: =IF('【施設用】入力シート（こちらにご入力ください）'!$G$129="","",'【施設用】入力シート（こちらにご入力ください）'!$G$129) | M55: =IF('【施設用】入力シート（こちらにご入力ください）'!$H$129="","",'【施設用】入力シート（こちらにご入力ください）'!$H$129) | O55: =IF('【施設用】入力シート（こちらにご入力ください）'!$I$129="","",'【施設用】入力シート（こちらにご入力ください）'!$I$129) | Q55: =IF('【施設用】入力シート（こちらにご入力ください）'!$J$129="","",'【施設用】入力シート（こちらにご入力ください）'!$J$129) | S55: =IF('【施設用】入力シート（こちらにご入力ください）'!$K$129="","",'【施設用】入力シート（こちらにご入力ください）'!$K$129) | U55: =IF('【施設用】入力シート（こちらにご入力ください）'!$L$129="","",'【施設用】入力シート（こちらにご入力ください）'!$L$129) | W55: =IF('【施設用】入力シート（こちらにご入力ください）'!$M$129="","",'【施設用】入力シート（こちらにご入力ください）'!$M$129) | Y55: =IF('【施設用】入力シート（こちらにご入力ください）'!$N$129="","",'【施設用】入力シート（こちらにご入力ください）'!$N$129) | AA55: =IF('【施設用】入力シート（こちらにご入力ください）'!$O$129="","",'【施設用】入力シート（こちらにご入力ください）'!$O$129) | AC55: =IF('【施設用】入力シート（こちらにご入力ください）'!$P$129="","",'【施設用】入力シート（こちらにご入力ください）'!$P$129) | AE55: =IF('【施設用】入力シート（こちらにご入力ください）'!$Q$129="","",'【施設用】入力シート（こちらにご入力ください）'!$Q$129)
A56: 給与栄養量 (実際量) | E56: =IF('【施設用】入力シート（こちらにご入力ください）'!$D$130="","",'【施設用】入力シート（こちらにご入力ください）'!$D$130) | G56: =IF('【施設用】入力シート（こちらにご入力ください）'!$E$130="","",'【施設用】入力シート（こちらにご入力ください）'!$E$130) | I56: =IF('【施設用】入力シート（こちらにご入力ください）'!$F$130="","",'【施設用】入力シート（こちらにご入力ください）'!$F$130) | K56: =IF('【施設用】入力シート（こちらにご入力ください）'!$G$130="","",'【施設用】入力シート（こちらにご入力ください）'!$G$130) | M56: =IF('【施設用】入力シート（こちらにご入力ください）'!$H$130="","",'【施設用】入力シート（こちらにご入力ください）'!$H$130) | O56: =IF('【施設用】入力シート（こちらにご入力ください）'!$I$130="","",'【施設用】入力シート（こちらにご入力ください）'!$I$130) | Q56: =IF('【施設用】入力シート（こちらにご入力ください）'!$J$130="","",'【施設用】入力シート（こちらにご入力ください）'!$J$130) | S56: =IF('【施設用】入力シート（こちらにご入力ください）'!$K$130="","",'【施設用】入力シート（こちらにご入力ください）'!$K$130) | U56: =IF('【施設用】入力シート（こちらにご入力ください）'!$L$130="","",'【施設用】入力シート（こちらにご入力ください）'!$L$130) | W56: =IF('【施設用】入力シート（こちらにご入力ください）'!$M$130="","",'【施設用】入力シート（こちらにご入力ください）'!$M$130) | Y56: =IF('【施設用】入力シート（こちらにご入力ください）'!$N$130="","",'【施設用】入力シート（こちらにご入力ください）'!$N$130) | AA56: =IF('【施設用】入力シート（こちらにご入力ください）'!$O$130="","",'【施設用】入力シート（こちらにご入力ください）'!$O$130) | AC56: =IF('【施設用】入力シート（こちらにご入力ください）'!$P$130="","",'【施設用】入力シート（こちらにご入力ください）'!$P$130) | AE56: =IF('【施設用】入力シート（こちらにご入力ください）'!$Q$130="","",'【施設用】入力シート（こちらにご入力ください）'!$Q$130)
A57: 献立作成者 | E57: ="職種： "&IF('【施設用】入力シート（こちらにご入力ください）'!$D$132="○","①管理栄養士","１管理栄養士")&" "&IF('【施設用】入力シート（こちらにご入力ください）'!$D$133="○","②栄養士","２栄養士")&" "&IF('【施設用】入力シート（こちらにご入力ください）'!$D$134="○","③調理師(員)","３調理師(員)")&" "&IF('【施設用】入力シート（こちらにご入力ください）'!$D$135="○","④その他","４その他")&"("&IF('【施設用】入力シート（こちらにご入力ください）'!$D$136=""," ",'【施設用】入力シート（こちらにご入力ください）'!$D$136)&")" -> 職種： １管理栄養士 ２栄養士 ３調理師(員) ４その他( ) | Y57: ="氏名："&IF('【施設用】入力シート（こちらにご入力ください）'!$D$137="","",'【施設用】入力シート（こちらにご入力ください）'!$D$137) -> 氏名：
A58: 給与栄養目標量に対する給与栄養量の確認及び評価 | O58: =IF('【施設用】入力シート（こちらにご入力ください）'!$D$138="１実施している","①実施している","１実施している")&"("&IF('【施設用】入力シート（こちらにご入力ください）'!$D$139="毎月","■毎月","□毎月")&"・"&IF('【施設用】入力シート（こちらにご入力ください）'!$D$139="報告月のみ","■報告月のみ","□報告月のみ")&") "&IF('【施設用】入力シート（こちらにご入力ください）'!$D$138="２実施していない","②実施していない","２実施していない") -> １実施している(□毎月・□報告月のみ) ２実施していない
A59: 栄養量に対する課題及び改善策 | I59: =IF('【施設用】入力シート（こちらにご入力ください）'!$D$140="１有","①有","１有")&"("&IF('【施設用】入力シート（こちらにご入力ください）'!$D$141=""," ",'【施設用】入力シート（こちらにご入力ください）'!$D$141)&") "&IF('【施設用】入力シート（こちらにご入力ください）'!$D$140="２無","②無","２無") -> １有( ) ２無
A60: 喫食量(残食量)の把握 | I60: =IF('【施設用】入力シート（こちらにご入力ください）'!$D$142="１有","①有","１有")&" "&IF('【施設用】入力シート（こちらにご入力ください）'!$D$142="２無","②無","２無") -> １有 ２無 | N60: ⑬岐阜県の栄養関連施策 | Y60: 目標量 | AC60: 提供量
A61: 嗜好(満足度)調査の実施 | I61: =IF('【施設用】入力シート（こちらにご入力ください）'!$D$143="１有","①有","１有")&" "&IF('【施設用】入力シート（こちらにご入力ください）'!$D$143="２無","②無","２無") -> １有 ２無 | N61: ="一人当たりの野菜量( "&IF('【施設用】入力シート（こちらにご入力ください）'!$D$145="１食","①食","１食")&" ・ "&IF('【施設用】入力シート（こちらにご入力ください）'!$D$145="１日","①日","１日")&" )" -> 一人当たりの野菜量( １食 ・ １日 ) | Y61: =IF('【施設用】入力シート（こちらにご入力ください）'!$D$146="","",'【施設用】入力シート（こちらにご入力ください）'!$D$146)&"g" -> g | AC61: =IF('【施設用】入力シート（こちらにご入力ください）'!$D$147="","",'【施設用】入力シート（こちらにご入力ください）'!$D$147)&"g" -> g
A63: ⑭食材料費 | G63: ="一人１食当たり 小学校 "&IF('【施設用】入力シート（こちらにご入力ください）'!$D$149=""," ",'【施設用】入力シート（こちらにご入力ください）'!$D$149)&" 円 中学校 "&IF('【施設用】入力シート（こちらにご入力ください）'!$D$150=""," ",'【施設用】入力シート（こちらにご入力ください）'!$D$150)&" 円 その他("&IF('【施設用】入力シート（こちらにご入力ください）'!$D$151=""," ",'【施設用】入力シート（こちらにご入力ください）'!$D$151)&") "&IF('【施設用】入力シート（こちらにご入力ください）'!$D$152=""," ",'【施設用】入力シート（こちらにご入力ください）'!$D$152)&" 円" -> 一人１食当たり 小学校 円 中学校 円 その他( ) 円
A64: ⑮給食日誌 | G64: =IF('【施設用】入力シート（こちらにご入力ください）'!$D$153="１有","①有","１有")&" "&IF('【施設用】入力シート（こちらにご入力ください）'!$D$153="２無","②無","２無") -> １有 ２無 | L64: ⑯検食簿 | O64: =IF('【施設用】入力シート（こちらにご入力ください）'!$D$154="１有","①有","１有")&"(検食者の職種名 "&IF('【施設用】入力シート（こちらにご入力ください）'!$D$155=""," ",'【施設用】入力シート（こちらにご入力ください）'!$D$155)&") "&IF('【施設用】入力シート（こちらにご入力ください）'!$D$154="２無","②無","２無") -> １有(検食者の職種名 ) ２無
A65: ⑰作業指示書(工程表) | G65: =IF('【施設用】入力シート（こちらにご入力ください）'!$D$156="１有","①有","１有")&" "&IF('【施設用】入力シート（こちらにご入力ください）'!$D$156="２無","②無","２無") -> １有 ２無
A67: ⑱栄養成分表示 | G67: =IF('【施設用】入力シート（こちらにご入力ください）'!$D$158="１有","①有","１有")&" "&IF('【施設用】入力シート（こちらにご入力ください）'!$D$158="２無","②無","２無") -> １有 ２無 | K67: =IF('【施設用】入力シート（こちらにご入力ください）'!$D$159="○","①エネルギー","１エネルギー")&" "&IF('【施設用】入力シート（こちらにご入力ください）'!$D$160="○","②たんぱく質","２たんぱく質")&" "&IF('【施設用】入力シート（こちらにご入力ください）'!$D$161="○","③脂質","３脂質")&" "&IF('【施設用】入力シート（こちらにご入力ください）'!$D$162="○","④炭水化物","４炭水化物")&" "&IF('【施設用】入力シート（こちらにご入力ください）'!$D$163="○","⑤食塩相当量","５食塩相当量")&" "&IF('【施設用】入力シート（こちらにご入力ください）'!$D$164="○","⑥その他","６その他")&"("&IF('【施設用】入力シート（こちらにご入力ください）'!$D$165=""," ",'【施設用】入力シート（こちらにご入力ください）'!$D$165)&")" -> １エネルギー ２たんぱく質 ３脂質 ４炭水化物 ５食塩相当量 ６その他( )
A68: ⑲テーマ献立の導入 | G68: =IF('【施設用】入力シート（こちらにご入力ください）'!$D$166="１有","①有","１有")&" "&IF('【施設用】入力シート（こちらにご入力ください）'!$D$166="２無","②無","２無") -> １有 ２無 | K68: =IF('【施設用】入力シート（こちらにご入力ください）'!$D$167="○","①行事食","１行事食")&" "&IF('【施設用】入力シート（こちらにご入力ください）'!$D$168="○","②郷土食","２郷土食")&" "&IF('【施設用】入力シート（こちらにご入力ください）'!$D$169="○","③その他","３その他")&"("&IF('【施設用】入力シート（こちらにご入力ください）'!$D$170=""," ",'【施設用】入力シート（こちらにご入力ください）'!$D$170)&")" -> １行事食 ２郷土食 ３その他( )
A69: ⑳健康･栄養情報の提供 | H69: =IF('【施設用】入力シート（こちらにご入力ください）'!$D$171="１有","①有","１有")&" "&IF('【施設用】入力シート（こちらにご入力ください）'!$D$171="２無","②無","２無") -> １有 ２無
A70: =IF('【施設用】入力シート（こちらにご入力ください）'!$D$172="○","①献立表の掲示・配布","１献立表の掲示・配布")&" "&IF('【施設用】入力シート（こちらにご入力ください）'!$D$173="○","②ポスターの掲示","２ポスターの掲示")&" "&IF('【施設用】入力シート（こちらにご入力ください）'!$D$174="○","③リーフレットの配布","３リーフレットの配布")&" "&IF('【施設用】入力シート（こちらにご入力ください）'!$D$175="○","④実物展示","４実物展示")&" "&IF('【施設用】入力シート（こちらにご入力ください）'!$D$176="○","⑤給食だより","５給食だより")&" "&IF('【施設用】入力シート（こちらにご入力ください）'!$D$177="○","⑥その他","６その他")&"("&IF('【施設用】入力シート（こちらにご入力ください）'!$D$178=""," ",'【施設用】入力シート（こちらにご入力ください）'!$D$178)&")" -> １献立表の掲示・配布 ２ポスターの掲示 ３リーフレットの配布 ４実物展示 ５給食だより ６その他( )
A72: ㉑非常時危機管理対策 | H72: 事故(食中毒等)時対策マニュアル | P72: =IF('【施設用】入力シート（こちらにご入力ください）'!$D$180="１有","①有","１有")&" "&IF('【施設用】入力シート（こちらにご入力ください）'!$D$180="２無","②無","２無") -> １有 ２無 | U72: 非常災害時対策マニュアル | AB72: =IF('【施設用】入力シート（こちらにご入力ください）'!$D$181="１有","①有","１有")&" "&IF('【施設用】入力シート（こちらにご入力ください）'!$D$181="２無","②無","２無") -> １有 ２無
A73: 備蓄食品 | H73: =IF('【施設用】入力シート（こちらにご入力ください）'!$D$182="１有","①有","１有")&" "&IF('【施設用】入力シート（こちらにご入力ください）'!$D$182="２無","②無","２無") -> １有 ２無 | L73: ="水("&IF('【施設用】入力シート（こちらにご入力ください）'!$D$183=""," ",'【施設用】入力シート（こちらにご入力ください）'!$D$183)&")ℓ("&IF('【施設用】入力シート（こちらにご入力ください）'!$D$184=""," ",'【施設用】入力シート（こちらにご入力ください）'!$D$184)&")日分 食品("&IF('【施設用】入力シート（こちらにご入力ください）'!$D$185=""," ",'【施設用】入力シート（こちらにご入力ください）'!$D$185)&")人分を("&IF('【施設用】入力シート（こちらにご入力ください）'!$D$186=""," ",'【施設用】入力シート（こちらにご入力ください）'!$D$186)&")日分" -> 水( )ℓ( )日分 食品( )人分を( )日分
A74: 保管場所 | H74: =IF('【施設用】入力シート（こちらにご入力ください）'!$D$187="１有","①有","１有")&" "&IF('【施設用】入力シート（こちらにご入力ください）'!$D$187="２無","②無","２無") -> １有 ２無 | L74: =IF('【施設用】入力シート（こちらにご入力ください）'!$D$188="○","①厨房内","１厨房内")&" "&IF('【施設用】入力シート（こちらにご入力ください）'!$D$189="○","②防災保管庫","２防災保管庫")&" "&IF('【施設用】入力シート（こちらにご入力ください）'!$D$190="○","③その他","３その他")&"("&IF('【施設用】入力シート（こちらにご入力ください）'!$D$191=""," ",'【施設用】入力シート（こちらにご入力ください）'!$D$191)&")" -> １厨房内 ２防災保管庫 ３その他( )
A75: 非常時用献立 | H75: =IF('【施設用】入力シート（こちらにご入力ください）'!$D$192="１有","①有","１有")&" "&IF('【施設用】入力シート（こちらにご入力ください）'!$D$192="２無","②無","２無") -> １有 ２無
A77: ㉒施設の自己評価・ 課題及び改善策 | H77: =IF('【施設用】入力シート（こちらにご入力ください）'!$D$194="","",'【施設用】入力シート（こちらにご入力ください）'!$D$194)
A79: ㉓報告書作成者 | H79: ="所属名 "&IF('【施設用】入力シート（こちらにご入力ください）'!$D$195=""," ",'【施設用】入力シート（こちらにご入力ください）'!$D$195) -> 所属名 | Q79: ="職名・氏名 "&IF('【施設用】入力シート（こちらにご入力ください）'!$D$196=""," ",'【施設用】入力シート（こちらにご入力ください）'!$D$196) -> 職名・氏名 | Z79: ="TEL "&IF('【施設用】入力シート（こちらにご入力ください）'!$D$197=""," ",'【施設用】入力シート（こちらにご入力ください）'!$D$197) -> TEL

Sheet 【保健所用】データシート（入力不要）
A1: 集計用データ（１行＝１施設） ※別紙８（栄養管理状況一覧表）と同一の項目・並び順です。
A2: ・「【施設用】入力シート」で入力された内容が、別紙8貼付用の1行データとして本シートに自動反映されます。
A3: ・９行目のＢ列～ＥＤ列をコピーし、別紙８の該当行のＢ列に「値の貼り付け」をしてください（Ａ列は台帳の施設番号＝入力シートＩ１の保健所記入欄）。
A4: ・緑色の欄（施設種別、基準年の野菜摂取量、個別巡回指導回数、集団指導回数）は保健所で入力してください。
A5: ・特定・その他、施設区分、管栄・栄養士の有無は入力内容から自動判定します（指定施設の場合は施設区分を「1」に修正）。
B7: 栄養管理状況一覧表（令和８年度栄養管理報告書より） | AZ7: 給与栄養目標量 | BN7: ★ | BO7: 給与栄養量 | CC7: ★ | CD7: ★ | CE7: ★ | CF7: ★ | DL7: * | ED7: ★
A8: 台帳の施設番号 | B8: 施設名 | C8: 住所 | D8: 特定・その他 | E8: 施設区分 | F8: 施設種別 | G8: 運営方式 | H8: 委託契約書の整備 | I8: 理念・方針・目標等 | J8: 組織図 | K8: 健康づくり機能＊ | L8: 健康管理部門との連携＊ | M8: 栄養管理委員会 | N8: 研修会 | O8: 食数・朝 | P8: 食数・昼 | Q8: 食数・夕 | R8: 食数・その他 | S8: 食数・計 | T8: 給食形態等＊ | U8: 給食形態・量＊ | V8: 給食形態・補食＊ | W8: 給食形態・アレルギー＊ | X8: 給食形態・特別＊ | Y8: 給食形態・食堂＊ | Z8: 施設常勤・管栄 | AA8: 施設常勤・栄養士 | AB8: 施設常勤・調理師 | AC8: 受託常勤・管栄 | AD8: 受託常勤・栄養士 | AE8: 受託常勤・調理師 | AF8: 合計常勤管栄 | AG8: 合計常勤栄養士 | AH8: 合計常勤調理師 | AI8: 管栄・栄養士の有無 | AJ8: 対象者の把握＊ | AK8: 対象者数・男性 | AL8: 対象者数・女性 | AM8: 対象者数・男女計 | AN8: 肥満人数 | AO8: やせ人数 | AP8: 肥満割合/自動計算 | AQ8: やせ割合/自動計算 | AR8: 肥満やせ割合/自動計算 | AS8: 対象者・身長 | AT8: 対象者・体重 | AU8: 対象者・肥満度＊ | AV8: 対象者・疾病＊ | AW8: 対象者・アレルギー＊ | AX8: 給与栄養目標量 | AY8: 給与栄養量 | AZ8: エネルギー | BA8: たんぱく質 | BB8: 脂質 | BC8: カルシウム | BD8: 鉄 | BE8: ビタミンA | BF8: ビタミンB１ | BG8: ビタミンB２ | BH8: ビタミンC | BI8: 食物繊維 | BJ8: 食塩相当量 | BK8: 炭水化物％ | BL8: 脂質％ | BM8: たんぱく質％ | BN8: 野菜摂取量 | BO8: エネルギー | BP8: たんぱく質 | BQ8: 脂質 | BR8: カルシウム | BS8: 鉄 | BT8: ビタミンA | BU8: ビタミンB１ | BV8: ビタミンB２ | BW8: ビタミンC | BX8: 食物繊維 | BY8: 食塩相当量 | BZ8: 炭水化物％ | CA8: 脂質％ | CB8: たんぱく質％ | CC8: 野菜摂取量 | CD8: 基準年の野菜摂取量 | CE8: 基準年との比較 | CF8: 野菜量（当たり） | CG8: 食材費（当たり） | CH8: 食材費（金額）① | CI8: 食材費（金額）② | CJ8: 食材費（金額）③ | CK8: 給与栄養目標量設定年月 | CL8: 設定根拠 | CM8: 食事内容・朝食 | CN8: 食事内容・昼食 | CO8: 食事内容・夕食 | CP8: 食事内容・おやつ | CQ8: 食事内容・その他 | CR8: 献立作成者・管栄 | CS8: 献立作成者・栄養士 | CT8: 献立作成者・調理 | CU8: 献立作成者・その他 | CV8: 事後評価 | CW8: 課題及び改善策 | CX8: 喫食量の把握 | CY8: 嗜好調査の実施 | CZ8: 給食日誌 | DA8: 検食簿 | DB8: 作業指示 | DC8: 栄養成分表示・有無 | DD8: 栄養表示・エネルギー | DE8: 栄養表示・たんぱく質 | DF8: 栄養表示・脂質 | DG8: 栄養表示・炭水化物 | DH8: 栄養表示・食塩相当量 | DI8: 栄養表示・その他 | DJ8: テーマ献立＊ | DK8: 情報提供の有無 | DL8: 情報・献立 | DM8: 情報・ポスター | DN8: 情報・リーフレット | DO8: 情報・実物 | DP8: 情報・給食たより | DQ8: 情報・食卓メモ | DR8: 情報・その他 | DS8: 栄養指導 | DT8: 食中毒マニュアル | DU8: 災害時マニュアル | DV8: 非常時・食糧等 | DW8: 保管場所の有無 | DX8: 非常時・保管場所(1) | DY8: 非常時・保管場所(2) | DZ8: 非常時・保管場所(3) | EA8: 非常時・献立 | EB8: 個別巡回指導回数 | EC8: 集団指導回数 | ED8: 指導実施
A9: =IF('【施設用】入力シート（こちらにご入力ください）'!$I$1="","",'【施設用】入力シート（こちらにご入力ください）'!$I$1) | B9: =IF('【施設用】入力シート（こちらにご入力ください）'!$D$12="","",'【施設用】入力シート（こちらにご入力ください）'!$D$12) | C9: =IF('【施設用】入力シート（こちらにご入力ください）'!$D$14="","",'【施設用】入力シート（こちらにご入力ください）'!$D$14) | D9: =IF(S9="","",IF(OR(MAX(O9:Q9)>=100,S9>=250),1,IF(OR(MAX(O9:Q9)>=20,S9>=50),2,""))) | E9: =IF(S9="","",IF(OR(MAX(O9:Q9)>=300,S9>=750),2,IF(OR(MAX(O9:Q9)>=100,S9>=250),3,4))) | G9: =IF('【施設用】入力シート（こちらにご入力ください）'!$D$30="１直営",1,IF('【施設用】入力シート（こちらにご入力ください）'!$D$30="２委託",2,"*")) -> * | H9: =IF('【施設用】入力シート（こちらにご入力ください）'!$D$30="１直営","-",IF('【施設用】入力シート（こちらにご入力ください）'!$D$32="１有",1,IF('【施設用】入力シート（こちらにご入力ください）'!$D$32="２無",2,"*"))) -> * | I9: =IF('【施設用】入力シート（こちらにご入力ください）'!$D$45="１有",1,IF('【施設用】入力シート（こちらにご入力ください）'!$D$45="２無",2,"*")) -> * | J9: =IF('【施設用】入力シート（こちらにご入力ください）'!$D$46="１有",1,IF('【施設用】入力シート（こちらにご入力ください）'!$D$46="２無",2,"*")) -> * | K9: =IFERROR(MATCH('【施設用】入力シート（こちらにご入力ください）'!$D$48,選択肢!$D$1:$D$4,0),"*") -> * | L9: - | M9: =IF('【施設用】入力シート（こちらにご入力ください）'!$D$50="１有",1,IF('【施設用】入力シート（こちらにご入力ください）'!$D$50="２無",2,"*")) -> * | N9: =IF('【施設用】入力シート（こちらにご入力ください）'!$D$67="１有",1,IF('【施設用】入力シート（こちらにご入力ください）'!$D$67="２無",2,"*")) -> * | O9: =IF(COUNT('【施設用】入力シート（こちらにご入力ください）'!$D$72:$F$76,'【施設用】入力シート（こちらにご入力ください）'!$J$72:$J$76)=0,"",SUM('【施設用】入力シート（こちらにご入力ください）'!$D$72:$D$76)) | P9: =IF(COUNT('【施設用】入力シート（こちらにご入力ください）'!$D$72:$F$76,'【施設用】入力シート（こちらにご入力ください）'!$J$72:$J$76)=0,"",SUM('【施設用】入力シート（こちらにご入力ください）'!$E$72:$E$76)) | Q9: =IF(COUNT('【施設用】入力シート（こちらにご入力ください）'!$D$72:$F$76,'【施設用】入力シート（こちらにご入力ください）'!$J$72:$J$76)=0,"",SUM('【施設用】入力シート（こちらにご入力ください）'!$F$72:$F$76)) | R9: =IF(COUNT('【施設用】入力シート（こちらにご入力ください）'!$D$72:$F$76,'【施設用】入力シート（こちらにご入力ください）'!$J$72:$J$76)=0,"",SUM('【施設用】入力シート（こちらにご入力ください）'!$J$72:$J$76)) | S9: =IF(O9="","",SUM(O9:R9)) | T9: =IFERROR(MATCH('【施設用】入力シート（こちらにご入力ください）'!$D$81,選択肢!$F$1:$F$2,0),"*") -> * | U9: - | V9: - | W9: =IF('【施設用】入力シート（こちらにご入力ください）'!$D$82="１有",1,IF('【施設用】入力シート（こちらにご入力ください）'!$D$82="２無",2,"*")) -> * | X9: =IF('【施設用】入力シート（こちらにご入力ください）'!$D$84="１有",1,IF('【施設用】入力シート（こちらにご入力ください）'!$D$84="２無",2,"*")) -> * | Y9: =IF('【施設用】入力シート（こちらにご入力ください）'!$D$86="１有",1,IF('【施設用】入力シート（こちらにご入力ください）'!$D$86="２無",2,"*")) -> * | Z9: =IF('【施設用】入力シート（こちらにご入力ください）'!$D$89="",0,'【施設用】入力シート（こちらにご入力ください）'!$D$89) -> 0 | AA9: =IF('【施設用】入力シート（こちらにご入力ください）'!$D$90="",0,'【施設用】入力シート（こちらにご入力ください）'!$D$90) -> 0 | AB9: =IF('【施設用】入力シート（こちらにご入力ください）'!$D$91="",0,'【施設用】入力シート（こちらにご入力ください）'!$D$91) -> 0 | AC9: =IF('【施設用】入力シート（こちらにご入力ください）'!$F$89="",0,'【施設用】入力シート（こちらにご入力ください）'!$F$89) -> 0 | AD9: =IF('【施設用】入力シート（こちらにご入力ください）'!$F$90="",0,'【施設用】入力シート（こちらにご入力ください）'!$F$90) -> 0 | AE9: =IF('【施設用】入力シート（こちらにご入力ください）'!$F$91="",0,'【施設用】入力シート（こちらにご入力ください）'!$F$91) -> 0 | AF9: =SUM(Z9,AC9) -> 0 | AG9: =SUM(AA9,AD9) -> 0 | AH9: =SUM(AB9,AE9) -> 0 | AI9: =IF(COUNT('【施設用】入力シート（こちらにご入力ください）'!$D$89:$G$93)=0,"",IF(AND(N(AF9)>0,N(AG9)>0),2,IF(N(AF9)>0,1,IF(N(AG9)>0,3,4)))) | AJ9: =IF('【施設用】入力シート（こちらにご入力ください）'!$D$103="１有",1,IF('【施設用】入力シート（こちらにご入力ください）'!$D$103="２無",2,"*")) -> * | AK9: - | AL9: - | AM9: =IF(COUNT('【施設用】入力シート（こちらにご入力ください）'!$E$107:$E$109)=0,"*",SUM('【施設用】入力シート（こちらにご入力ください）'!$E$107:$E$109)) -> * | AN9: =IF(COUNT('【施設用】入力シート（こちらにご入力ください）'!$F$107:$F$109)=0,"*",SUM('【施設用】入力シート（こちらにご入力ください）'!$F$107:$F$109)) -> * | AO9: =IF(COUNT('【施設用】入力シート（こちらにご入力ください）'!$G$107:$G$109)=0,"*",SUM('【施設用】入力シート（こちらにご入力ください）'!$G$107:$G$109)) -> * | AP9: =IF(AND(ISNUMBER(AM9),ISNUMBER(AN9)),IF(AM9>0,AN9/AM9*100,""),"") | AQ9: =IF(AND(ISNUMBER(AM9),ISNUMBER(AO9)),IF(AM9>0,AO9/AM9*100,""),"") | AR9: =IF(AND(ISNUMBER(AM9),ISNUMBER(AN9),ISNUMBER(AO9)),IF(AM9>0,(AN9+AO9)/AM9*100,""),"") | AS9: =IF('【施設用】入力シート（こちらにご入力ください）'!$D$112="１有",1,IF('【施設用】入力シート（こちらにご入力ください）'!$D$112="２無",2,"*")) -> * | AT9: =IF('【施設用】入力シート（こちらにご入力ください）'!$D$113="１有",1,IF('【施設用】入力シート（こちらにご入力ください）'!$D$113="２無",2,"*")) -> * | AU9: =IF(COUNT('【施設用】入力シート（こちらにご入力ください）'!$F$107:$G$109)>0,1,2) -> 2 | AV9: =IF('【施設用】入力シート（こちらにご入力ください）'!$D$115="１有",1,IF('【施設用】入力シート（こちらにご入力ください）'!$D$115="２無",2,"*")) -> * | AW9: =IF('【施設用】入力シート（こちらにご入力ください）'!$D$116="１有",1,IF('【施設用】入力シート（こちらにご入力ください）'!$D$116="２無",2,"*")) -> * | AX9: =IF(COUNT('【施設用】入力シート（こちらにご入力ください）'!$D$129:$Q$129)>0,1,"*") -> * | AY9: =IF(COUNT('【施設用】入力シート（こちらにご入力ください）'!$D$130:$Q$130)>0,1,"*") -> * | AZ9: =IF('【施設用】入力シート（こちらにご入力ください）'!$D$129="","*",'【施設用】入力シート（こちらにご入力ください）'!$D$129) -> * | BA9: =IF('【施設用】入力シート（こちらにご入力ください）'!$E$129="","*",'【施設用】入力シート（こちらにご入力ください）'!$E$129) -> * | BB9: =IF('【施設用】入力シート（こちらにご入力ください）'!$F$129="","*",'【施設用】入力シート（こちらにご入力ください）'!$F$129) -> * | BC9: =IF('【施設用】入力シート（こちらにご入力ください）'!$G$129="","*",'【施設用】入力シート（こちらにご入力ください）'!$G$129) -> * | BD9: =IF('【施設用】入力シート（こちらにご入力ください）'!$H$129="","*",'【施設用】入力シート（こちらにご入力ください）'!$H$129) -> * | BE9: =IF('【施設用】入力シート（こちらにご入力ください）'!$I$129="","*",'【施設用】入力シート（こちらにご入力ください）'!$I$129) -> * | BF9: =IF('【施設用】入力シート（こちらにご入力ください）'!$J$129="","*",'【施設用】入力シート（こちらにご入力ください）'!$J$129) -> * | BG9: =IF('【施設用】入力シート（こちらにご入力ください）'!$K$129="","*",'【施設用】入力シート（こちらにご入力ください）'!$K$129) -> * | BH9: =IF('【施設用】入力シート（こちらにご入力ください）'!$L$129="","*",'【施設用】入力シート（こちらにご入力ください）'!$L$129) -> * | BI9: =IF('【施設用】入力シート（こちらにご入力ください）'!$M$129="","*",'【施設用】入力シート（こちらにご入力ください）'!$M$129) -> * | BJ9: =IF('【施設用】入力シート（こちらにご入力ください）'!$N$129="","*",'【施設用】入力シート（こちらにご入力ください）'!$N$129) -> * | BK9: =IF('【施設用】入力シート（こちらにご入力ください）'!$O$129="","*",'【施設用】入力シート（こちらにご入力ください）'!$O$129) -> * | BL9: =IF('【施設用】入力シート（こちらにご入力ください）'!$P$129="","*",'【施設用】入力シート（こちらにご入力ください）'!$P$129) -> * | BM9: =IF('【施設用】入力シート（こちらにご入力ください）'!$Q$129="","*",'【施設用】入力シート（こちらにご入力ください）'!$Q$129) -> * | BN9: =IF('【施設用】入力シート（こちらにご入力ください）'!$D$146="","*",'【施設用】入力シート（こちらにご入力ください）'!$D$146) -> * | BO9: =IF('【施設用】入力シート（こちらにご入力ください）'!$D$130="","*",'【施設用】入力シート（こちらにご入力ください）'!$D$130) -> * | BP9: =IF('【施設用】入力シート（こちらにご入力ください）'!$E$130="","*",'【施設用】入力シート（こちらにご入力ください）'!$E$130) -> * | BQ9: =IF('【施設用】入力シート（こちらにご入力ください）'!$F$130="","*",'【施設用】入力シート（こちらにご入力ください）'!$F$130) -> * | BR9: =IF('【施設用】入力シート（こちらにご入力ください）'!$G$130="","*",'【施設用】入力シート（こちらにご入力ください）'!$G$130) -> * | BS9: =IF('【施設用】入力シート（こちらにご入力ください）'!$H$130="","*",'【施設用】入力シート（こちらにご入力ください）'!$H$130) -> * | BT9: =IF('【施設用】入力シート（こちらにご入力ください）'!$I$130="","*",'【施設用】入力シート（こちらにご入力ください）'!$I$130) -> * | BU9: =IF('【施設用】入力シート（こちらにご入力ください）'!$J$130="","*",'【施設用】入力シート（こちらにご入力ください）'!$J$130) -> * | BV9: =IF('【施設用】入力シート（こちらにご入力ください）'!$K$130="","*",'【施設用】入力シート（こちらにご入力ください）'!$K$130) -> * | BW9: =IF('【施設用】入力シート（こちらにご入力ください）'!$L$130="","*",'【施設用】入力シート（こちらにご入力ください）'!$L$130) -> * | BX9: =IF('【施設用】入力シート（こちらにご入力ください）'!$M$130="","*",'【施設用】入力シート（こちらにご入力ください）'!$M$130) -> * | BY9: =IF('【施設用】入力シート（こちらにご入力ください）'!$N$130="","*",'【施設用】入力シート（こちらにご入力ください）'!$N$130) -> * | BZ9: =IF('【施設用】入力シート（こちらにご入力ください）'!$O$130="","*",'【施設用】入力シート（こちらにご入力ください）'!$O$130) -> * | CA9: =IF('【施設用】入力シート（こちらにご入力ください）'!$P$130="","*",'【施設用】入力シート（こちらにご入力ください）'!$P$130) -> * | CB9: =IF('【施設用】入力シート（こちらにご入力ください）'!$Q$130="","*",'【施設用】入力シート（こちらにご入力ください）'!$Q$130) -> * | CC9: =IF('【施設用】入力シート（こちらにご入力ください）'!$D$147="","*",'【施設用】入力シート（こちらにご入力ください）'!$D$147) -> * | CE9: =IF(AND(ISNUMBER(CC9),ISNUMBER(CD9)),CC9-CD9,"") | CF9: =IF('【施設用】入力シート（こちらにご入力ください）'!$D$145="１日",1,IF('【施設用】入力シート（こちらにご入力ください）'!$D$145="１食",2,"*")) -> * | CG9: =IF(COUNT('【施設用】入力シート（こちらにご入力ください）'!$D$149,'【施設用】入力シート（こちらにご入力ください）'!$D$150,'【施設用】入力シート（こちらにご入力ください）'!$D$152)>0,2,"*") -> * | CH9: =IF('【施設用】入力シート（こちらにご入力ください）'!$D$149<>"",'【施設用】入力シート（こちらにご入力ください）'!$D$149,IF(OR(N('【施設用】入力シート（こちらにご入力ください）'!$D$23)>0,COUNT('【施設用】入力シート（こちらにご入力ください）'!$D$72:$F$72)>0),"*","-")) -> - | CI9: =IF('【施設用】入力シート（こちらにご入力ください）'!$D$150<>"",'【施設用】入力シート（こちらにご入力ください）'!$D$150,IF(OR(N('【施設用】入力シート（こちらにご入力ください）'!$D$24)>0,COUNT('【施設用】入力シート（こちらにご入力ください）'!$D$73:$F$73)>0),"*","-")) -> - | CJ9: =IF('【施設用】入力シート（こちらにご入力ください）'!$D$152<>"",'【施設用】入力シート（こちらにご入力ください）'!$D$152,IF(OR('【施設用】入力シート（こちらにご入力ください）'!$D$27<>"",N('【施設用】入力シート（こちらにご入力ください）'!$D$28)>0,COUNT('【施設用】入力シート（こちらにご入力ください）'!$D$76:$F$76)>0),"*","-")) -> - | CK9: =IF(OR('【施設用】入力シート（こちらにご入力ください）'!$D$119<>"",'【施設用】入力シート（こちらにご入力ください）'!$D$120<>""),1,"*") -> * | CL9: =IF('【施設用】入力シート（こちらにご入力ください）'!$D$121<>"",1,"*") -> * | CM9: =IF('【施設用】入力シート（こちらにご入力ください）'!$D$122="○",1,IF('【施設用】入力シート（こちらにご入力ください）'!$D$122="－",2,"*")) -> * | CN9: =IF('【施設用】入力シート（こちらにご入力ください）'!$D$123="○",1,IF('【施設用】入力シート（こちらにご入力ください）'!$D$123="－",2,"*")) -> * | CO9: =IF('【施設用】入力シート（こちらにご入力ください）'!$D$124="○",1,IF('【施設用】入力シート（こちらにご入力ください）'!$D$124="－",2,"*")) -> * | CP9: =IF('【施設用】入力シート（こちらにご入力ください）'!$D$125="○",1,IF('【施設用】入力シート（こちらにご入力ください）'!$D$125="－",2,"*")) -> * | CQ9: =IF('【施設用】入力シート（こちらにご入力ください）'!$D$126="○",1,IF('【施設用】入力シート（こちらにご入力ください）'!$D$126="－",2,"*")) -> * | CR9: =IF('【施設用】入力シート（こちらにご入力ください）'!$D$132="○",1,IF('【施設用】入力シート（こちらにご入力ください）'!$D$132="－",2,"*")) -> * | CS9: =IF('【施設用】入力シート（こちらにご入力ください）'!$D$133="○",1,IF('【施設用】入力シート（こちらにご入力ください）'!$D$133="－",2,"*")) -> * | CT9: =IF('【施設用】入力シート（こちらにご入力ください）'!$D$134="○",1,IF('【施設用】入力シート（こちらにご入力ください）'!$D$134="－",2,"*")) -> * | CU9: =IF('【施設用】入力シート（こちらにご入力ください）'!$D$135="○",1,IF('【施設用】入力シート（こちらにご入力ください）'!$D$135="－",2,"*")) -> * | CV9: =IF('【施設用】入力シート（こちらにご入力ください）'!$D$138="１実施している",1,IF('【施設用】入力シート（こちらにご入力ください）'!$D$138="２実施していない",2,"*")) -> * | CW9: =IF('【施設用】入力シート（こちらにご入力ください）'!$D$140="１有",1,IF('【施設用】入力シート（こちらにご入力ください）'!$D$140="２無",2,"*")) -> * | CX9: =IF('【施設用】入力シート（こちらにご入力ください）'!$D$142="１有",1,IF('【施設用】入力シート（こちらにご入力ください）'!$D$142="２無",2,"*")) -> * | CY9: =IF('【施設用】入力シート（こちらにご入力ください）'!$D$143="１有",1,IF('【施設用】入力シート（こちらにご入力ください）'!$D$143="２無",2,"*")) -> * | CZ9: =IF('【施設用】入力シート（こちらにご入力ください）'!$D$153="１有",1,IF('【施設用】入力シート（こちらにご入力ください）'!$D$153="２無",2,"*")) -> * | DA9: =IF('【施設用】入力シート（こちらにご入力ください）'!$D$154="１有",1,IF('【施設用】入力シート（こちらにご入力ください）'!$D$154="２無",2,"*")) -> * | DB9: =IF('【施設用】入力シート（こちらにご入力ください）'!$D$156="１有",1,IF('【施設用】入力シート（こちらにご入力ください）'!$D$156="２無",2,"*")) -> * | DC9: =IF('【施設用】入力シート（こちらにご入力ください）'!$D$158="１有",1,IF('【施設用】入力シート（こちらにご入力ください）'!$D$158="２無",2,"*")) -> * | DD9: =IF($DC9<>1,"*",IF('【施設用】入力シート（こちらにご入力ください）'!$D$159="○",1,IF('【施設用】入力シート（こちらにご入力ください）'!$D$159="－",2,"*"))) -> * | DE9: =IF($DC9<>1,"*",IF('【施設用】入力シート（こちらにご入力ください）'!$D$160="○",1,IF('【施設用】入力シート（こちらにご入力ください）'!$D$160="－",2,"*"))) -> * | DF9: =IF($DC9<>1,"*",IF('【施設用】入力シート（こちらにご入力ください）'!$D$161="○",1,IF('【施設用】入力シート（こちらにご入力ください）'!$D$161="－",2,"*"))) -> * | DG9: =IF($DC9<>1,"*",IF('【施設用】入力シート（こちらにご入力ください）'!$D$162="○",1,IF('【施設用】入力シート（こちらにご入力ください）'!$D$162="－",2,"*"))) -> * | DH9: =IF($DC9<>1,"*",IF('【施設用】入力シート（こちらにご入力ください）'!$D$163="○",1,IF('【施設用】入力シート（こちらにご入力ください）'!$D$163="－",2,"*"))) -> * | DI9: =IF($DC9<>1,"*",IF('【施設用】入力シート（こちらにご入力ください）'!$D$164="○",1,IF('【施設用】入力シート（こちらにご入力ください）'!$D$164="－",2,"*"))) -> * | DJ9: =IF('【施設用】入力シート（こちらにご入力ください）'!$D$166="１有",1,IF('【施設用】入力シート（こちらにご入力ください）'!$D$166="２無",2,"*")) -> * | DK9: =IF('【施設用】入力シート（こちらにご入力ください）'!$D$171="１有",1,IF('【施設用】入力シート（こちらにご入力ください）'!$D$171="２無",2,"*")) -> * | DL9: =IF($DK9<>1,"*",IF('【施設用】入力シート（こちらにご入力ください）'!$D$172="○",1,IF('【施設用】入力シート（こちらにご入力ください）'!$D$172="－",2,"*"))) -> * | DM9: =IF($DK9<>1,"*",IF('【施設用】入力シート（こちらにご入力ください）'!$D$173="○",1,IF('【施設用】入力シート（こちらにご入力ください）'!$D$173="－",2,"*"))) -> * | DN9: =IF($DK9<>1,"*",IF('【施設用】入力シート（こちらにご入力ください）'!$D$174="○",1,IF('【施設用】入力シート（こちらにご入力ください）'!$D$174="－",2,"*"))) -> * | DO9: =IF($DK9<>1,"*",IF('【施設用】入力シート（こちらにご入力ください）'!$D$175="○",1,IF('【施設用】入力シート（こちらにご入力ください）'!$D$175="－",2,"*"))) -> * | DP9: =IF($DK9<>1,"*",IF('【施設用】入力シート（こちらにご入力ください）'!$D$176="○",1,IF('【施設用】入力シート（こちらにご入力ください）'!$D$176="－",2,"*"))) -> * | DQ9: - | DR9: =IF($DK9<>1,"*",IF('【施設用】入力シート（こちらにご入力ください）'!$D$177="○",1,IF('【施設用】入力シート（こちらにご入力ください）'!$D$177="－",2,"*"))) -> * | DS9: - | DT9: =IF('【施設用】入力シート（こちらにご入力ください）'!$D$180="１有",1,IF('【施設用】入力シート（こちらにご入力ください）'!$D$180="２無",2,"*")) -> * | DU9: =IF('【施設用】入力シート（こちらにご入力ください）'!$D$181="１有",1,IF('【施設用】入力シート（こちらにご入力ください）'!$D$181="２無",2,"*")) -> * | DV9: =IF('【施設用】入力シート（こちらにご入力ください）'!$D$182="１有",1,IF('【施設用】入力シート（こちらにご入力ください）'!$D$182="２無",2,"*")) -> * | DW9: =IF('【施設用】入力シート（こちらにご入力ください）'!$D$187="１有",1,IF('【施設用】入力シート（こちらにご入力ください）'!$D$187="２無",2,"*")) -> * | DX9: =IF($DW9<>1,"*",IF('【施設用】入力シート（こちらにご入力ください）'!$D$188="○",1,IF('【施設用】入力シート（こちらにご入力ください）'!$D$188="－",2,"*"))) -> * | DY9: =IF($DW9<>1,"*",IF('【施設用】入力シート（こちらにご入力ください）'!$D$189="○",1,IF('【施設用】入力シート（こちらにご入力ください）'!$D$189="－",2,"*"))) -> * | DZ9: =IF($DW9<>1,"*",IF('【施設用】入力シート（こちらにご入力ください）'!$D$190="○",1,IF('【施設用】入力シート（こちらにご入力ください）'!$D$190="－",2,"*"))) -> * | EA9: =IF('【施設用】入力シート（こちらにご入力ください）'!$D$192="１有",1,IF('【施設用】入力シート（こちらにご入力ください）'!$D$192="２無",2,"*")) -> * | ED9: =IF(OR(N(EB9)>0,N(EC9)>0),"1","")

Sheet 選択肢
A1: １直営 | B1: 全面 | C1: １有 | D1: １十分機能している | E1: 週 | F1: １単一献立 | G1: １管理栄養士 | H1: １実施している | I1: 毎月 | J1: １食 | K1: ○ | L1: 岐阜保健所 | M1: 管理栄養士
A2: ２委託 | B2: 一部 | C2: ２無 | D2: ２まだ十分でない | E2: 月 | F2: ２複数献立 | G2: ２栄養士 | H2: ２実施していない | I2: 報告月のみ | J2: １日 | K2: － | L2: 西濃保健所 | M2: 栄養士
D3: ３機能していない | E3: 年 | G3: ３調理師(員) | L3: 関保健所
D4: ４分からない | G4: ４その他 | L4: 可茂保健所
L5: 東濃保健所
L6: 恵那保健所
L7: 飛騨保健所
